BEGIN:VCALENDAR
VERSION:2.0
PRODID:-//EuroBJJ//Event Calendar//EN
CALSCALE:GREGORIAN
METHOD:PUBLISH
X-WR-CALNAME:EuroBJJ Events
BEGIN:VEVENT
UID:event-1756@eurobjj.com
DTSTAMP:20260420T082135Z
DTSTART;VALUE=DATE:20260607
DTEND;VALUE=DATE:20260608
SUMMARY:15° ITALIAN NATIONAL BRAZILIAN JIU-JITSU CHAMPIONSHIP GI E NO-GI (ROMA)
LOCATION:PalaTorrino\, Roma\, Italy
DESCRIPTION:Italy's 15th National Brazilian Jiu-Jitsu Championship takes place in Roma with both Gi and No-Gi tournaments. Open to athletes aged 4 and up\, it serves as a selection event for Italy's National Teams competing at the IBJJF European Championships.\n\n**Competition structure:**\n- Age divisions: Kids (4–15 years)\, Juveniles\, Adults\, and Masters\n- Belt levels: White\, Colored\, Brown\, and Black\n- Weight categories and Openweight divisions (available for 10+ years)\n- IBJJF rules without advantages\n\n**Registration & fees:**\n- Reduced rates by May 3: €20 per division (kids 4–15) or €5 (Adult/Master Black Belts)\; €18 Openweight\n- Standard rates by May 31: €30 per division (kids 4–15) or €10 (Adult/Master Black Belts)\; €18 Openweight\n- €10 discount for registering both Gi and No-Gi (excluding Black Belts)\n- Free registration for Ukrainian refugees\n- First 50 registrants receive a free event t-shirt (KANO KIMONOS)\n\n**Prizes & ranking:**\nPrize money ranges €3\,000–€20\,000 depending on total registrations. Top 5 teams earn cash prizes. Black Belts earn up to 125 ranking points for 1st place\, with additional points for match wins and submissions.\n\n**Schedule:** Weigh-ins 8am–4pm\, competition starts approximately 10am.\n\n*For full details and registration\, visit the official event page.*\\n\\nMore info: https://bjjitalia.smoothcomp.com/en/event/31712\\n\\nView on EuroBJJ: https://eurobjj.com/events/1756
URL:https://bjjitalia.smoothcomp.com/en/event/31712
END:VEVENT
END:VCALENDAR
