BEGIN:VCALENDAR
VERSION:2.0
PRODID:-//EuroBJJ//Event Calendar//EN
CALSCALE:GREGORIAN
METHOD:PUBLISH
X-WR-CALNAME:EuroBJJ Events
BEGIN:VEVENT
UID:event-1770@eurobjj.com
DTSTAMP:20260422T065747Z
DTSTART;VALUE=DATE:20260614
DTEND;VALUE=DATE:20260615
SUMMARY:1º TROFEU CIUTAT DE PALMA BJJ
LOCATION:Polideportivo Municipal Rudy Fernández\, Palma de mallorca\, Spain
DESCRIPTION:The 1º Trofeu Ciutat de Palma BJJ is an international Gi and No-Gi tournament held in Palma\, open to all teams and nationalities. Competition spans 12 age divisions from Kids 1 (4-5 years) through Master 4 (46+)\, across nine belt levels under IBJJF rules.\n\n**Registration fees:**\n- Early bird (15 Apr – 24 May): €30–35 per modality\, €60–70 both\n- Normal (24 Apr – 15 May): €35–40 per modality\, €70–80 both\n- Late (15 May – 8 Jun): €40–45 per modality\, €80–90 both\n\n**Schedule:**\n- Pre-weigh-in: Saturday 13 June\, 17:00–20:00\n- Event day weigh-in: Sunday 14 June\, 08:00–09:00\n- Competition starts 10:00 on Sunday\n\n**Highlights:**\n- Team trophies for 1st\, 2nd\, 3rd in Kids/Youth and Adults divisions (Gi and No-Gi)\n- Individual medals for top 3 finishers\n- First 100 registrations receive an event t-shirt\n- Basic sports accident insurance included\n- Free spectator entry\n- Limited spots available\n\n*For full details and registration\, visit the official event page.*\\n\\nMore info: https://smoothcomp.com/en/event/31756\\n\\nView on EuroBJJ: https://eurobjj.com/events/1770
URL:https://smoothcomp.com/en/event/31756
END:VEVENT
END:VCALENDAR
