BEGIN:VCALENDAR
VERSION:2.0
PRODID:-//EuroBJJ//Event Calendar//EN
CALSCALE:GREGORIAN
METHOD:PUBLISH
X-WR-CALNAME:EuroBJJ Events
BEGIN:VEVENT
UID:event-1755@eurobjj.com
DTSTAMP:20260420T081545Z
DTSTART;VALUE=DATE:20260423
DTEND;VALUE=DATE:20260424
SUMMARY:ACCREDITO COACH - CAMPIONATO ITALIANO 2026 U14 - U16 - U18
LOCATION:Italy
DESCRIPTION:The Accredito Coach - Campionato Italiano 2026 U14 - U16 - U18 is Italy's national championship for young competitors.\n\n**Coach and companion guidelines:**\n\n- Each athlete may have one coach/companion seated in a designated box at the competition area edge\n- Teams can bring additional companions (4–5 depending on mat setup)\n- Competing athletes and match officials cannot assist competitors\n- Club presidents or social coaches may be on the field only if wearing official club or federation uniform\n- A mandatory profile photo is required in Smoothcomp\n\n*For full details and registration\, visit the official event page.*\\n\\nMore info: https://fijlkam-jujitsu.smoothcomp.com/en/event/29828\\n\\nView on EuroBJJ: https://eurobjj.com/events/1755
URL:https://fijlkam-jujitsu.smoothcomp.com/en/event/29828
END:VEVENT
END:VCALENDAR
