BEGIN:VCALENDAR
VERSION:2.0
PRODID:-//EuroBJJ//Event Calendar//EN
CALSCALE:GREGORIAN
METHOD:PUBLISH
X-WR-CALNAME:EuroBJJ Events
BEGIN:VEVENT
UID:event-836@eurobjj.com
DTSTAMP:20260421T135613Z
DTSTART;VALUE=DATE:20260425
DTEND;VALUE=DATE:20260426
SUMMARY:ADCC FINNISH OPEN 2026
LOCATION:Arkadia-halli\, Nurmijärvi\, Finland
DESCRIPTION:The ADCC Finnish Open 2026 is an ADCC-sanctioned Gi and No-Gi competition held April 25–26. Divisions span juniors (boys and girls\, ages 7–17) and adults across multiple skill levels\, from Beginners through Professionals\, plus Masters categories up to age 50+.\n\n**Important:** Only ADCC member clubs may participate.\n\n**Registration fees:**\n- Adults: €50 (January)\, €60 (February)\, €70 (March–April 19)\, €100 (April 20–21)\n- Juniors: €30 (January)\, €40 (February)\, €50 (March–April)\n- Spectators: €5\n- Reserve military personnel compete free (notify info@kamppailucenter.com)\n\n**Schedule:**\n- Saturday\, April 25: Weigh-in 10:00–11:30 AM\, Juniors/Beginners/Masters start 12:00 PM\n- Sunday\, April 26: Weigh-in 10:00–11:30 AM\, Intermediate/Advanced/Professionals start 12:00 PM\n- Rules meeting at 11:30 AM both days\n- Referee training April 24 at 6:00 PM\n\nThe organizer reserves the right to combine and modify categories as needed.\n\n*For full details and registration\, visit the official event page.*\\n\\nMore info: https://smoothcomp.com/en/event/28950\\n\\nView on EuroBJJ: https://eurobjj.com/events/836
URL:https://smoothcomp.com/en/event/28950
END:VEVENT
END:VCALENDAR
