BEGIN:VCALENDAR
VERSION:2.0
PRODID:-//EuroBJJ//Event Calendar//EN
CALSCALE:GREGORIAN
METHOD:PUBLISH
X-WR-CALNAME:EuroBJJ Events
BEGIN:VEVENT
UID:event-1773@eurobjj.com
DTSTAMP:20260422T065114Z
DTSTART;VALUE=DATE:20260815
DTEND;VALUE=DATE:20260816
SUMMARY:ADCC KIDS & TEENS OPEN 2026
LOCATION:John Count McCormack Centre\, Athlone\, Ireland
DESCRIPTION:The ADCC Kids & Teens Open 2026 welcomes competitors aged 15–17 to compete under ADCC rules. Absolute divisions are available for the same age group.\n\n**Registration & fees:**\n- €50 early bird / €60 standard (via SmoothComp)\n- €25 for absolute division entry\n- SmoothComp profiles must be set to PUBLIC\n\n**Competition details:**\n- Doors and weigh-ins from 7:45 AM\, matches start 9:00 AM\n- ADCC medals for the top three in each weight class\n- Team and academy trophies awarded\n\n**Spectator access:**\n- €10 adults\, €5 children\n- One parent per family with an athlete aged 7–14 enters free\n\n*For full details and registration\, visit the official event page.*\\n\\nMore info: https://smoothcomp.com/en/event/31889\\n\\nView on EuroBJJ: https://eurobjj.com/events/1773
URL:https://smoothcomp.com/en/event/31889
END:VEVENT
END:VCALENDAR
