BEGIN:VCALENDAR
VERSION:2.0
PRODID:-//EuroBJJ//Event Calendar//EN
CALSCALE:GREGORIAN
METHOD:PUBLISH
X-WR-CALNAME:EuroBJJ Events
BEGIN:VEVENT
UID:event-1538@eurobjj.com
DTSTAMP:20260423T170739Z
DTSTART;VALUE=DATE:20260531
DTEND;VALUE=DATE:20260601
SUMMARY:ADCC MACEDONIA OPEN 2026
LOCATION:S.C. Boris Trajkovski\, Skopje\, North Macedonia
DESCRIPTION:ADCC Macedonia Open 2026 welcomes competitors from youth (7 years old) through Masters 40+\, across Beginner\, Intermediate\, and Professional levels.\n\n**Registration & Schedule:**\n- Under 18: €35 | 18+: €45 (cash payment on tournament day only)\n- Weigh-ins: Saturday 19:30–21:00\, Sunday 8:30–9:30\n- Competition starts 10:30\, doors open 30 minutes prior\n- Free spectator entry\n\n**Medals and prizes:** Top 3 finishers in each weight class receive medals and diplomas. Teams compete for the Best Team Trophy based on cumulative points (1st = 5 points\, 2nd = 3 points\, 3rd = 1 point).\n\n*For full details and registration\, visit the official event page.*\\n\\nMore info: https://smoothcomp.com/en/event/30651\\n\\nView on EuroBJJ: https://eurobjj.com/events/1538
URL:https://smoothcomp.com/en/event/30651
END:VEVENT
END:VCALENDAR
