BEGIN:VCALENDAR
VERSION:2.0
PRODID:-//EuroBJJ//Event Calendar//EN
CALSCALE:GREGORIAN
METHOD:PUBLISH
X-WR-CALNAME:EuroBJJ Events
BEGIN:VEVENT
UID:event-1656@eurobjj.com
DTSTAMP:20260421T091636Z
DTSTART;VALUE=DATE:20260614
DTEND;VALUE=DATE:20260615
SUMMARY:ADCC SUISSE OPEN CHAMPIONSHIP 2026
LOCATION:Mehrzweckhalle Wallisellen\, Zurich\, Switzerland
DESCRIPTION:Sunday 14th June 2026LocationMehrzweckhalle\, Alte Winterthurerstrasse 62\, 8304 WallisellenREGISTRATION FEESKIDSNormal (until 11.05.2026\, 23:59 pm) - CHF 60Late (until 08.06.2026\, 23:59 pm) - CHF 70ADULTSNormal ( until 11.05.2026\, 23:00 pm) - CHF 90Late (until 08.06.2026\, 23:59 pm)- CHF 100The deadline for registration is Monday June 8th 23:59 pmAthletes may modify or cancel their registration until 8th June at 23:59. After this deadline\, no changes or division transfers will be permitted.REFUND POLICYAthletes have until the last day of registration to apply for a refund.Please write to info@adcc-suisse.comRefunds will not be available in case of an athlete's disqualification.&nbsp\;No refunds will be issued after the registration deadline. Athletes who miss their match or fail to be present on time will not be eligible for a refund.WEIGH-INWeigh-ins will only take place at the scheduled times. Failure to show up at the scheduled times will result in the inability to be verified\, which will result in disqualification.Athletes\, who are overweight will be automatically disqualified and cannot compete.Proof&nbsp\;&nbsp\;of identity&nbsp\;will be required at weigh in.Athletes are only required to weigh once. There is a 0.0 weight allowance at the scale.&nbsp\;WEIGH IN&nbsp\;Saturday 13.06.2026\, 13:30 - 15:30 pmLocation:&nbsp\;Mehrzweckhalle\, Alte Winterthurerstrasse 62\, 8304 WallisellenCOMPETITION DAYSunday 14.06.2026\, 08:00 - 09:30 amLocation:&nbsp\;Mehrzweckhalle\, Alte Winterthurerstrasse 62\, 8304 WallisellenWear T-Shirts and shorts to weigh inREWARDS:Every weight classes’ three best fighters get medal.The teams that gets most of the points&nbsp\; gets - the “Best Team Trophy ” (1st\,2nd and 3rd place)Prize for ABSOLUTE PRO MEN / WOMEN\; ABSOLUTE MEN Youth 15-17 years division:Winners get Champion BeltsAll 18+ participants have a chance to win ONE FREE spectator ticket to the ADCC World Championship 2026 (special conditions apply).The event will be streamed live.Ruleshttps://adcombat.com/adcc-rules-regulations/adcc-rules-for-beginners-intermediate/Official ADCC Weight Classeshttps://adcombat.com/adcc-rules-regulations/official-adcc-weight-classes/DivisionsNOTICE:The organizer reserves the right to merge weight&nbsp\; and age categories in case some of the categories are empty or don't have a \nminimal amount of athletes.DIVISIONS &amp\; WEIGHT CATEGORIESMEN&nbsp\;Adult 18+Professional:&nbsp\;(More than 5 years of experience)\,&nbsp\;(PROFESSIONAL rules) -60.0 kg\, -65.0 kg\, -70.0 kg\, -76.0 kg\, -83.0\nkg\, -91.0 kg\, -100.0 kg\, +100.0 kgIntermediate: (From 2 to 4 years of experience)\,&nbsp\;(INTERMEDIATE/ADVANCED&nbsp\; rules) -60kg\, -65kg\, -70kg\, -76kg\, -83kg\, -91kg\, -100kg and +100kg Beginners:&nbsp\;(Less than 2 years of experience)\,&nbsp\;(BEGINNERS rules) -60kg\, -65kg\, -70kg\, -76kg\, -83kg\, -91kg\,\n-100kg and +100kgMALE Master 1 +35Professional:&nbsp\;(More than 5 years of experience)\,&nbsp\;(INTERMEDIATE /ADVANCED rules)&nbsp\;-60.0 kg\, -65.0 kg\, -70.0 kg\, -76.0 kg\, -83.0 kg\, -91.0 kg\, -100.0 kg\, +100.0 kgIntermediate: (From 2 to 4 years of experience)\,(INTERMEDIATE /ADVANCED rules)&nbsp\;-60.0 kg\, -65.0 kg\, -70.0 kg\, -76.0 kg\, -83.0 kg\, -91.0 kg\, -100.0 kg\, +100.0 kgBeginners:&nbsp\;(Less than 2 years of experience)\,(BEGINNERS rules)&nbsp\;-60.0 kg\, -65.0 kg\, -70.0 kg\, -76.0 kg\, -83.0 kg\, -91.0 kg\, -100.0 kg\, +100.0 kg&nbsp\;MALE Master 2 +40Professional:&nbsp\;(More than 5 years of experience)\,&nbsp\;(INTERMEDIATE/ADVANCED rules)&nbsp\;-60.0 kg\, -65.0 kg\, -70.0 kg\, -76.0 kg\, -83.0 kg\, -91.0 kg\, -100.0 kg\, +100.0 kgIntermediate:(From 2 to 4 years of experience)\,(INTERMEDIATE/ADVANCED rules)&nbsp\;-60.0 kg\, -65.0 kg\, -70.0 kg\, -76.0 kg\, -83.0 kg\, -91.0 kg\, -100.0 kg\, +100.00kgBeginners: (Less than 2 years of experience)&nbsp\;\,(BEGINNERS rules)&nbsp\;-60.0 kg\, -65.0 kg\, -70.0 kg\, -76.0 kg\, -83.0 kg\, -91.0 kg\, -100.0 kg\, +100.0 kg&nbsp\; &nbsp\;FEMALE&nbsp\;Adult 18+Professional:&nbsp\;(More than 5 years of experience)\,&nbsp\;(PROFESSIONAL rules)&nbsp\;-50kg\, -55kg\,\n-60kg\, -65kg\, -70kg +70kg Intermediate:&nbsp\;(From 2 to 4 years of experience)\,(INTERMEDIATE/ADVANCED rules)-50kg\, -55kg\, -60kg\, -65kg\, -70kg +70kgBeginners:&nbsp\;(Less than 2 years of experience)\, (BEGINNERS rules)&nbsp\;-50kg\, -55kg\, -60kg\, -65kg\, -70kg +70kgFEMALE Master 35+Professional:&nbsp\;(More than 5 years of experience)\,&nbsp\;(INTERMEDIATE/ADVANCED rules)&nbsp\;-50kg\, -55kg\, -60kg\, -65kg\, -70kg +70kgIntermediate:&nbsp\;(From 2 to 4 years of experience)\,&nbsp\;(INTERMEDIATE/ADVANCED rules)&nbsp\;-50kg\, -55kg\, -60kg\, -65kg\, -70kg +70kgBeginners: (Less than 2 years of experience)\,(BEGINNERS rules)&nbsp\;-50kg\, -55kg\, -60kg\, -65kg\, -70kg +70kg&nbsp\;KIDS Divisions:Boys (5-6 years old)&nbsp\; (BEGINNERS rules) - 18Kg\, -21Kg\, -24Kg\, -28Kg\, -32Kg\, -36Kg\, -40Kg\, -45Kg +45KgGirls (5-6 years old) (BEGINNERS rules)&nbsp\; -18 Kg\, -21Kg\, -24Kg\, -28Kg\, -32Kg\, -36Kg\, -40Kg\, +40KgBoys (7-8 years old) (BEGINNERS rules) -21Kg\, -24Kg\, -28Kg\, -32Kg\, -36Kg\, -40Kg\,\n -45Kg +45KgGirls (7-8 years old)&nbsp\; (BEGINNERS rules) -21Kg\, -24Kg\, -28Kg\, -32Kg\, -36Kg\, -40Kg\, +40Kg&nbsp\;Boys\n (9-10 years old) (BEGINNERS rules) -24Kg\, -28Kg\, -32Kg\, -36Kg\, -40Kg\, -45Kg\, -50Kg\, +50KgGirls (9-10 years old) (BEGINNERS rules) 24Kg\, -28Kg\, -32Kg\, -36Kg\, -40Kg\, -45Kg\, +45KgBoys\n (11-12 years old) (BEGINNERS rules) -32Kg\, -36Kg\, -40Kg\, -45Kg\, -50Kg\, -55Kg\, -60Kg\, \n+60KgGirls (11-12 years old) (BEGINNERS rules) -28Kg\, -32Kg\, -36Kg\, -40Kg\,\n -45Kg\, -50Kg\, +50KgBoys (13-14 years old)&nbsp\; (BEGINNERS rules): -36Kg\, -40Kg\, \n-45Kg\, -50Kg\, -55Kg\, -60Kg\, -65Kg\, +65KgGirls (13-14 years old)&nbsp\; (BEGINNERS rules):\n -32Kg\, -36Kg\, -40Kg\, -45Kg\, -50Kg\, -55Kg\, +55KgBoys (15-17) Beginners -(less than 2 years of experience)\, Intermediates/Advanced&nbsp\;-(From 2 to 4 years of experience) -&nbsp\;(ALL this age Beginners rules): -45Kg\, -50Kg\, -55Kg\, -60Kg\, -65Kg\, -70Kg\, -75Kg\, -80Kg\, +80KgGirls (15-17) Beginners -(less than 2 years of experience)\, Intermediates/ Advanced&nbsp\;&nbsp\;-(From 2 to 4 years of experience)&nbsp\; -(ALL this age Beginners rules): -36Kg\, -40Kg\, -45Kg\, -50Kg\, -55Kg\, -60Kg\, +60KgABSOLUTE DIVISION&nbsp\; To participate in ABSOLUTE&nbsp\; ADULT you have to be an ADULT +18 - PROFESSIONAL level\, as the division follows professional rules.&nbsp\; To participate in ABSOLUTE&nbsp\; MASTERS you have to be an ADULT +35 - PROFESSIONAL level\,&nbsp\; division follows&nbsp\;ADVANCED/INTERMEDIATE rules&nbsp\;.  Absolute division is open only to all medalists of Professional divisions.To Participate in ABSOLUTE&nbsp\; Men Youth (15–17 years old) you have to be&nbsp\; male Youth (15-17 years old)&nbsp\;&nbsp\;–&nbsp\; open to all medalists of 15-17 years old&nbsp\; divisions. The winner receives an Absolute Champion belt. Registration will take place on the day after all Professional divisions fights are finished and after all male 15-17 years old divisions fights are finished. After division results are available\, please go to the weigh-in/registration desk to register yourself for Absolute Division.&nbsp\;Which Age Group should you enter?&nbsp\;Enter the age group that you will be ON THE DAY of the tournament.COACH REGISTRATIONRegistration for\n coaches is mandatory in order to be able to pass within the gates and be able to advise athletes from the coach's corner. We will have one chair for one coach of the competitor on the mat.0-9 competitors: 2 coaches9+ competitors: 4 coachesThe\n only people&nbsp\; that will be allowed to pass within the gates during the tournament are competitors\, coaches\, staff with official\n competition accreditation.Schedule:&nbsp\;&nbsp\;&nbsp\;&nbsp\;&nbsp\;&nbsp\;&nbsp\;&nbsp\;&nbsp\;&nbsp\;&nbsp\;&nbsp\;&nbsp\;&nbsp\;&nbsp\;&nbsp\;&nbsp\;&nbsp\;&nbsp\;&nbsp\;&nbsp\;&nbsp\;&nbsp\;&nbsp\;&nbsp\;&nbsp\;&nbsp\;&nbsp\;&nbsp\;&nbsp\;&nbsp\;&nbsp\;&nbsp\;&nbsp\;&nbsp\;&nbsp\;&nbsp\;&nbsp\;&nbsp\;&nbsp\;&nbsp\;&nbsp\;&nbsp\;&nbsp\;&nbsp\;&nbsp\;&nbsp\;&nbsp\;&nbsp\;&nbsp\;&nbsp\;&nbsp\;&nbsp\;&nbsp\;&nbsp\;&nbsp\;&nbsp\;&nbsp\;&nbsp\;&nbsp\;&nbsp\;&nbsp\;&nbsp\;&nbsp\;&nbsp\;&nbsp\;&nbsp\;&nbsp\;&nbsp\;&nbsp\;&nbsp\;&nbsp\;&nbsp\;&nbsp\;&nbsp\;&nbsp\;&nbsp\;&nbsp\;&nbsp\;&nbsp\;&nbsp\;&nbsp\;&nbsp\;&nbsp\;&nbsp\;&nbsp\;&nbsp\;&nbsp\;Competition Day:Weigh ins: From 08:00 -09.30 amRules: 09:00 amStart: 09:30 amPublic / Spectators The doors open to the public at 08:00 amSPECTATOR ENTRANCE FEE: Adults - CHF 5\, Children 12+ CHF 3\\n\\nMore info: https://smoothcomp.com/en/event/31395\\n\\nView on EuroBJJ: https://eurobjj.com/events/1656
URL:https://smoothcomp.com/en/event/31395
END:VEVENT
END:VCALENDAR
