BEGIN:VCALENDAR
VERSION:2.0
PRODID:-//EuroBJJ//Event Calendar//EN
CALSCALE:GREGORIAN
METHOD:PUBLISH
X-WR-CALNAME:EuroBJJ Events
BEGIN:VEVENT
UID:event-1772@eurobjj.com
DTSTAMP:20260422T064635Z
DTSTART;VALUE=DATE:20260816
DTEND;VALUE=DATE:20260817
SUMMARY:ALL STARS BJJ DUBLIN
LOCATION:SCD Leisure Tallaght\, Dublin\, Ireland
DESCRIPTION:ALL STARS BJJ DUBLIN is a Gi and No-Gi tournament for Adults\, Juniors\, and Juveniles featuring both Gi and No-Gi absolutes.\n\n**Registration fees vary by category and timing:**\n\n- **Early Registration:** Adults €40 (1 div) / €65 (2 divs)\; Juniors/Juveniles €35 (1 div) / €45 (2 divs)\n- **Normal Registration:** Adults €50 (1 div) / €75 (2 divs)\; Juniors/Juveniles €45 (1 div)\n- **Late Registration:** Adults €57 (1 div) / €82 (2 divs)\; Juniors/Juveniles €50 (1 div)\n- Extra divisions: €15 per division\n\nOptional cash prize absolutes are available: split weight absolute (€15) and mighty absolute for Juniors (€10).\n\nSpectator entry is €8 at the door.\n\n*For full details and registration\, visit the official event page.*\\n\\nMore info: https://allstarsbjj.smoothcomp.com/en/event/24696\\n\\nView on EuroBJJ: https://eurobjj.com/events/1772
URL:https://allstarsbjj.smoothcomp.com/en/event/24696
END:VEVENT
END:VCALENDAR
