BEGIN:VCALENDAR
VERSION:2.0
PRODID:-//EuroBJJ//Event Calendar//EN
CALSCALE:GREGORIAN
METHOD:PUBLISH
X-WR-CALNAME:EuroBJJ Events
BEGIN:VEVENT
UID:event-1558@eurobjj.com
DTSTAMP:20260423T125409Z
DTSTART;VALUE=DATE:20260712
DTEND;VALUE=DATE:20260713
SUMMARY:ALL STARS BJJ LISBOA
LOCATION:Complexo Desportivo Casal Vistoso\, Lisboa\, Portugal
DESCRIPTION:ALL STARS BJJ LISBOA is a Gi and No-Gi competition in Lisbon following IBJJF rules. The event welcomes Adults\, Masters (1-7)\, Juniors\, and Juveniles across all belt levels.\n\n**Registration pricing (early bird until May 19):**\n- Adults: €35 (1 division) / €50 (2 divisions)\n- Junior/Juvenile: €25 (1 division) / €15 (extra division)\n- Cash Prize Absolutes: €15 (Adult/Master) or €10 (Junior/Juvenile Mighty Absolute)\n\nStandard and late registration options available at higher rates.\n\n**Prize structure:**\n- Adult/Master winners receive cash prizes (by belt level\, minimum 7 competitors)\, Champion belt\, and free entry\n- Runner-ups get Ground Force gi and free entry\; 3rd place receives compression t-shirt and free entry\n- Junior Mighty Absolute: Champion belt and free registration for 1st place\, Raine rashguard for 2nd\, free registration for 3rd\n\nBoth Gi and No-Gi absolutes are featured. Spectator entry is free.\n\n*For full details and registration\, visit the official event page.*\\n\\nMore info: https://allstarsbjj.smoothcomp.com/en/event/30948\\n\\nView on EuroBJJ: https://eurobjj.com/events/1558
URL:https://allstarsbjj.smoothcomp.com/en/event/30948
END:VEVENT
END:VCALENDAR
