BEGIN:VCALENDAR
VERSION:2.0
PRODID:-//EuroBJJ//Event Calendar//EN
CALSCALE:GREGORIAN
METHOD:PUBLISH
X-WR-CALNAME:EuroBJJ Events
BEGIN:VEVENT
UID:event-1783@eurobjj.com
DTSTAMP:20260423T103913Z
DTSTART;VALUE=DATE:20260517
DTEND;VALUE=DATE:20260518
SUMMARY:BENNI BÄRENSTARK CUP INHOUSE & FRIENDS
LOCATION:Munich MMA Laim\, München\, Germany
DESCRIPTION:The Benni Bärenstark Cup is a Gi tournament for young grapplers aged U8 to U13\, competing in white and colored belt divisions under IBJJF rules. The round robin format ensures every child fights at least twice\, with boys and girls competing together in most categories.\n\n**What to expect:**\n\n- Weigh-in: 14:30–15:00\n- All participants receive a medal and certificate\; top 3 earn gold\, silver\, and bronze\n- Pizza party around 18:00\n- Free underground parking\n\n*For full details and registration\, visit the official event page.*\\n\\nMore info: https://smoothcomp.com/en/event/31855\\n\\nView on EuroBJJ: https://eurobjj.com/events/1783
URL:https://smoothcomp.com/en/event/31855
END:VEVENT
END:VCALENDAR
