BEGIN:VCALENDAR
VERSION:2.0
PRODID:-//EuroBJJ//Event Calendar//EN
CALSCALE:GREGORIAN
METHOD:PUBLISH
X-WR-CALNAME:EuroBJJ Events
BEGIN:VEVENT
UID:event-1653@eurobjj.com
DTSTAMP:20260422T110405Z
DTSTART;VALUE=DATE:20260620
DTEND;VALUE=DATE:20260621
SUMMARY:CHALLENGE NJGT 2026 - GI/NOGI
LOCATION:Gymnase Reuss 1\, STRASBOURG\, France
DESCRIPTION:Le Challenge NO &amp\; NOGI 2026\, notre première compétition\, est un événement consacré aux sports de combat\, centré sur le grappling et le jiu-jitsu brésilien. Il accueille des pratiquants de tous horizons et de tous niveaux\, répartis en deux catégories : avec kimono (Gi) et sans kimono (No-Gi)\, et ouvert aux ceintures blanches et bleues.📣 Le Challenge NJGT GI &amp\; NOGI 2026 est une opportunité idéale pour se confronter à d’autres athlètes\, progresser et vivre une expérience intense dans une ambiance sportive et conviviale.--------------------&nbsp\;🤼‍♂️ ORGANISATEURS&nbsp\; NJGT et Infini Jiu-jitsu (Le club de jiu-jitsu brésilien de référence dans la Région Grand Est).&nbsp\;-------------------ℹ️  INFORMATIONS\nDate :&nbsp\; Samedi 20 Juin 2026\,\nLieu : gymnase sportif\, 64 allée Reuss\, Neuhof/Strasbourg\,\nFormat :&nbsp\; 1 jours - 9h00\,&nbsp\;\nPublic : ouvert aux spectateurs\,L’événement se déroulera sur deux aires de combat afin de permettre plusieurs matchs simultanément et de fluidifier le déroulement des combats\,Restauration et buvette sur place\,⛔ On compte sur vous ! Sans assez de participant-e-s\, le challenge sera reporté. ⛔-------------------📅 CALENDRIERDébut des inscriptions Mars 2026\,Changement de catégories 13 juin 2026\,Fin des inscriptions 12 juin 2026\,Date limite des remboursements 6 juin 2026 (100%).-------------------💳&nbsp\;TARIFGI&nbsp\; ou NOGI : 15€ Adule/Master\,Gi ou NOGI : 10€ Juvénile\,GI ou NOGi : 10€ Kid/Junior.➡️&nbsp\; Tarif préférentiel GI + NOGI : Adule/Master : 20€ au lieu de 30€\,GI + NOGI Juvénile : 15€ au lieu de 20€.GI + NOGI Kid/Junior : 15€ au lieu de 20€.-------------------📍 JOUR J \nAccueil des participants 8h30\,\nPesée officielle avant les combats et balances mises à disposition tout au long de la journée\,Une tolérance de -200g sera acceptée en GI et Nogi\,\nBriefing&nbsp\; 9h00\,\nDébut des combats 9h15 : Kids \, GI\, NOGI et super Fight\,\nPhases éliminatoires : éliminatoire direct ou tournoi selon round robin (tournoi)\,\nFinales\,Open Class adultes (Toutes Catégories)\, les 3 premiers de chaque catégories - Inscription Gratuite sur place\,Remise des médailles\,💥SUPERFIGHT💥 organisé par @wild_mat_league.-------------------👥 PARTICIPANT-E-S\nDébutant-e-s\,Ceintures blanches et bleues\,A partir de 8 ans.Les catégories sont divisées par :Poids\,\nNiveau\,\nÂge.&nbsp\;👶 Mineurs (moins de 18 ans) :\nAutorisation parentale obligatoire.-------------------🧾 CONTRÔLES ADMINISTRATIFS L’organisateur doit vérifier\, le jour de la compétition\, que chaque compétiteur présente  une pièce d’identité ou licence valide.\nSi ces pièces ne sont pas présentées\, l’athlète peut être disqualifié. -------------------🏆 TYPES DE FORMATS/FORMATSSelon le nombre d'inscrits\, nous opterons pour un des formats suivants :🔁 Tournoi à élimination directe (Single Élimination)\nTu perds ➝ tu es éliminé\,\n\nTu gagnes ➝ tu continues jusqu’à la finale.\n🔁 Round Roubin (poule)\nTout le monde affronte tout le monde dans une catégorie\,\nClassement selon les victoires / points.&nbsp\;⚙️ Système de points (CFJJB &amp\; IBJJF)\nProjection (Takedown) ou sweep (Renversement) : 2 points\,\nPassage de garde : 3 points\,\nMontée&nbsp\; dos (Mount)&nbsp\; : 4 points\,\nPrise de dos : 4 points.-------------------⏱️ DURÉE DES COMBATS 5 minutes Juvéniles et adultes\,3 minutes Kids.-------------------🎽 ARBITRAGE ET RESPECT DES RÈGLES TECHNIQUES Arbitres officiel de la CFJJB\,Le règlement suivra celui de la CFJJB\, avec les mêmes les règles autorisées et une évolution adaptée à l'âge des participants.➡️ Les soumissions autorisées dépendent :\nde la catégorie (GI / NOGI)\,\ndu niveau (ceinture)\,\nde l’âge.-------------------⛔ Techniques strictement interdites ⛔Clés de genoux avec torsion : heel hook =&nbsp\;clé de talon\, twisting locks=&nbsp\;clés de torsion\,&nbsp\;reaping =&nbsp\;croisement de jambe\; kimura cheville\,...\nSlam volontaire\, compression\,\nClés sur la colonne vertébrale sans contrôle\,\nTorsion des doigts\,\nProjections dangereuses sur la tête ou la nuque\,&nbsp\;KIDS/JUNIOR :&nbsp\; techniques limitées selon niveau.-------------------🛑 SANCTIONS➡️ Toute technique interdite entraîne :\narrêt immédiat du combat\,\npénalité ou disqualification.-------------------🏆 RÉCOMPENSES\nMédailles (or\, argent\, bronze)\,\nReconnaissance dans la communauté.-------------------🧑‍ENCADREMENT ET SÉCURITÉ\nArbitres qualifiés\,\nPrésence d’une équipe médicale\,\nSurface de combat sécurisée (tatamis)\,\nRègles strictes pour protéger les participants.-------------------🏟️ ASSURANCE EVENEMENTIELLE/ RESPONSABLITE CIVILE \nCouvre les dommages aux participants et spectateur\,\n\nCouvre les dommages matériels sur le lieu de l'événement\,\n\nAssure la responsabilité de l’organisateur en cas de problème pendant la compétition.-------------------🎥 DROIT A L'IMAGEEn s’inscrivant\, les compétiteurs acceptent que l’organisateur exploite les photos et vidéos prises lors de l’événement pour la promotion du sport\, conformément au Code du sport. -------------------🤝 NOS PARTENAIRES 🏛️ Ville de Strasbourg\,🇫🇷 Préfecture du Bas-Rhin\,🌍 Région Grand Est\,Acai Bowl\,WML.\\n\\nMore info: https://smoothcomp.com/en/event/31251\\n\\nView on EuroBJJ: https://eurobjj.com/events/1653
URL:https://smoothcomp.com/en/event/31251
END:VEVENT
END:VCALENDAR
