BEGIN:VCALENDAR
VERSION:2.0
PRODID:-//EuroBJJ//Event Calendar//EN
CALSCALE:GREGORIAN
METHOD:PUBLISH
X-WR-CALNAME:EuroBJJ Events
BEGIN:VEVENT
UID:event-508@eurobjj.com
DTSTAMP:20260423T110625Z
DTSTART;VALUE=DATE:20260215
DTEND;VALUE=DATE:20260216
SUMMARY:COMBAT BASE OPEN 3
LOCATION:AVT MMA\, Leeds\, United Kingdom
DESCRIPTION:The Combat Base Open is set to make its exciting return on [insert date] at AVT MMA in Morley\, Leeds. This tournament will feature both Gi and No-Gi competitions\, catering to a wide range of grapplers eager to showcase their skills.\n\n**What's on offer:**\n\n- Divisions available for all ages\, including Kids\, Juveniles\, Adults\, and Masters\n- Competitors can enter across all belt levels\, from white to black\n- Registration fees applicable (details pending)\n- Opportunities for ranking points and potential discounts for early sign-ups\n\n**Schedule:**\n\n- Specific weigh-in times and competition start times will be announced closer to the event.\n\n*For registration and full details\, visit the official event page.*\\n\\nMore info: https://smoothcomp.com/en/event/26738\\n\\nView on EuroBJJ: https://eurobjj.com/events/508
URL:https://smoothcomp.com/en/event/26738
END:VEVENT
END:VCALENDAR
