BEGIN:VCALENDAR
VERSION:2.0
PRODID:-//EuroBJJ//Event Calendar//EN
CALSCALE:GREGORIAN
METHOD:PUBLISH
X-WR-CALNAME:EuroBJJ Events
BEGIN:VEVENT
UID:event-1782@eurobjj.com
DTSTAMP:20260423T103130Z
DTSTART;VALUE=DATE:20260926
DTEND;VALUE=DATE:20260927
SUMMARY:COMBATE OPEN | D-BJJ
LOCATION:Budo Club Hemsbach e.V.\, Hemsbach\, Germany
DESCRIPTION:COMBATE OPEN | D-BJJ\n\n*For full details and registration\, visit the official event page.*\\n\\nMore info: https://dbjj.smoothcomp.com/en/event/31881\\n\\nView on EuroBJJ: https://eurobjj.com/events/1782
URL:https://dbjj.smoothcomp.com/en/event/31881
END:VEVENT
END:VCALENDAR
