BEGIN:VCALENDAR
VERSION:2.0
PRODID:-//EuroBJJ//Event Calendar//EN
CALSCALE:GREGORIAN
METHOD:PUBLISH
X-WR-CALNAME:EuroBJJ Events
BEGIN:VEVENT
UID:event-1659@eurobjj.com
DTSTAMP:20260421T091702Z
DTSTART;VALUE=DATE:20260613
DTEND;VALUE=DATE:20260614
SUMMARY:COPA DE ESPAÑA 2026 / GI - NO GI - KIDS
LOCATION:Spain
DESCRIPTION:🔥&nbsp\;DESCUENTOS GI + NOGI 🥋🤼‍♂️:Los luchadores que se inscriban en ambas categorías (Gi y NoGi) recibirán un descuento sobre el precio total (ver en "Fechas Relevantes").Ubicación:&nbsp\;Polideportivo Municipal Justo Gómez SaltoPaseo de los Pinos\, s/n\, 28830 San Fernando de HenaresPLAZAS LIMITADASAlcanzado el número de 450 inscritos&nbsp\;se cerrarán inscripciones&nbsp\;21 de Septiembre (sábado):🥋&lt\;b&gt\;GI\,&nbsp\; todas las edades y cinturones\, masculino y femenino.&lt\;/b&gt\;&lt\;b&gt\;🤼‍♂️No - Gi \, a partir de los 10 años todos los cinturones\, masculino y femenino.&lt\;/b&gt\;IMPORTANTE: LAS CATEGORÍAS DE EDAD SON POR AÑO DE NACIMIENTO\, NO POR FECHA DE NACIMIENTO.FECHAS RELEVANTES y preciosFechas de las tarifas en la cabecera del evento.&lt\;b&gt\;&lt\;u&gt\;Tarifa Anticipada&lt\;/u&gt\;:&lt\;/b&gt\;&nbsp\;&lt\;b&gt\;50 €&lt\;/b&gt\;&nbsp\;&lt\;u&gt\;Gi + NoGi:&nbsp\;&lt\;b&gt\;90 €&lt\;/b&gt\;&lt\;/u&gt\;&nbsp\;/ Menores de 15 años:&nbsp\;&lt\;b&gt\;40 €&nbsp\;&nbsp\;&lt\;/b&gt\;Gi + NoGi:&nbsp\;70 €&nbsp\; &nbsp\;&lt\;b&gt\;&lt\;u&gt\;Tarifa Normal&lt\;/u&gt\;&lt\;/b&gt\;:&nbsp\;&lt\;b&gt\;60 €&lt\;/b&gt\;&nbsp\;&lt\;u&gt\;Gi + NoGi:&nbsp\;&lt\;b&gt\;105 €&lt\;/b&gt\;&lt\;/u&gt\;&nbsp\;/ Menores de 15 años:&nbsp\;&lt\;b&gt\;50 €&nbsp\;&lt\;/b&gt\;Gi + NoGi: 85 €&lt\;b&gt\;&lt\;u&gt\;Tarifa Tardía&lt\;/u&gt\;&lt\;/b&gt\;:&nbsp\;&lt\;b&gt\;70 €&lt\;/b&gt\;&nbsp\;&lt\;u&gt\;Gi + NoGi:&nbsp\;&lt\;b&gt\;115 €&lt\;/b&gt\;&lt\;/u&gt\;&nbsp\;/ Menores de 15 años:&nbsp\;&lt\;b&gt\;60 €&nbsp\;&lt\;/b&gt\;Gi + NoGi: 105 €15 de Septiembre 2024 hasta 23:59h (Ultimo día de inscripción).16 de Septiembre 2024 hasta 23:59h (Ultimo día para EDITAR TU INSCRIPCIÓN).Para EDITAR la inscripción el atleta deberá hacerlo desde su perfil:Haz clic en: &gt\; Menú &gt\; Mi cuenta &gt\; Editar.16 de Septiembre 2024 hasta 23:59h&nbsp\;(Ultima oportunidad para CANCELAR INSCRIPCIÓN).Para CANCELAR la inscripción el atleta deberá hacerlo desde su perfil:Haz clic en: &gt\; Menú &gt\; Mi cuenta &gt\; Cancelar.IMPORTANTE: Recomendamos a los atletas que hagan reservas de transportes y hoteles con tarifas que permitan cambios o cancelaciones\, ya que por&nbsp\;MOTIVOS EXTRAORDINARIOS\,&nbsp\;podemos vernos obligados a mover las fechas de la competición.ANTES DE APUNTARTEPor favor lee detenidamente el manual de reglas de la IBJJF y la tabla de pesos:&lt\;a href="https://hispafight.com/reglas-ibjjf" target="_blank" rel="noreferrer noopener"&gt\;LIBRO DE REGLAS IBJJF&lt\;/a&gt\;&nbsp\;(en inglés)&lt\;a href="https://hispafight.com/sistema-ibjjf" target="_blank" rel="noreferrer noopener"&gt\;SISTEMA DE CINTURONES IBJJF&lt\;/a&gt\;&lt\;a href="https://hispafight.com/pesos-aejjb-gi" target="_blank" rel="noreferrer noopener"&gt\;TABLA DE PESOS GI AEJJB&lt\;/a&gt\;&lt\;a href="https://hispafight.com/pesos-ibjjf-nogi" target="_blank" rel="noreferrer noopener"&gt\;TABLA DE PESOS NOGI AEJJB&lt\;/a&gt\;NORMAS DE LA COMPETICIÓN1 –&nbsp\; PremiosMedallas para los Campeones🥇\, Subcampeones🥈 y&nbsp\;&lt\;b&gt\;Doble Bronce&lt\;/b&gt\;🥉 (2 terceros).🏆Trofeos para Equipos hasta 5º clasificado Gi\, hasta 3º clasificado NoGi y hasta 3º clasificado Kids.2 – La competición cuenta con un seguro de accidentes deportivo que cubrirá a los atletas que sufran un accidente en el día del evento con un limite de 1.500 € por accidente\, se recomienda a todos los competidores tener un seguro de accidentes privado en el caso de accidentes graves.3 – ⏰El atleta debera presentarse&nbsp\;al menos&nbsp\;20 minutos antes de su lucha o será descalificado\, sin derecho de pedir el reembolso del valor de la inscripción.&nbsp\;Recomendamos presentarse&nbsp\;al menos 60 minutos antes\, el evento puede adelantarse&nbsp\;muy sustancialmente&nbsp\;y es responsabilidad única de los participantes estar atentos a las actualizaciones en el horario dinámico desde su perfil.4 – Solamente las personas autorizadas pondrán sacar fotos o grabar las peleas en el área de lucha.5&nbsp\;– ⌚Todos los atletas&nbsp\;son responsables de comprobar periódicamente la hora de sus combates desde su página de perfil en smoothcomp.com. Los combates se pueden adelantar o retrasar muy sustancialmente a lo largo del día.&nbsp\;El atleta que no esté presente en el momento de ser llamado a pesaje&nbsp\;será descalificado\, independientemente de si el evento se ha adelantado respecto al primer horario publicado.6&nbsp\;–&nbsp\;Edad:&nbsp\;la edad de un atleta va en función del año\, no de la fecha exacta de nacimiento. Ejemplo:&nbsp\;un atleta que tenga en el día de la competición 17 años pero que ese mismo año cumplirá los 18 se considera para el sistema como "atleta de 18 años" y deberá competir en Adulto.&nbsp\;&nbsp\;7 - Es obligatorio imprimir o descargar en el móvil&nbsp\; la credencial \, ya que será obligatorio mostrarla para entrar en la zona de calentamiento. (todo aquel que no tenga foto deberá presentar además un documento acreditativo para poder certificar su identidadABSOLUTOSAdulto y Master:Los Cinturones Blancos&nbsp\;&lt\;u&gt\;no tienen absoluto&lt\;/u&gt\;&nbsp\;⚪⛔Solo el 1º🥇&nbsp\; clasificado podrá asistir al absoluto (en Cinturón Negro ⚫ todos los participantes pueden ir al absoluto)Para que se celebre un Absoluto tiene que haber como&nbsp\;&lt\;b&gt\;mínimo 4 atletas de&nbsp\;&lt\;u&gt\;al menos&lt\;/u&gt\;&nbsp\;3 equipos diferentes&lt\;/b&gt\;&nbsp\;en la categoríaQuien haya competido ese día en&nbsp\;&lt\;b&gt\;Adulto solo podrá ir al Absoluto Adulto&lt\;/b&gt\;\, quien haya competido en&nbsp\;&lt\;b&gt\;Master solo podrá ir al Absoluto Master&lt\;/b&gt\;&nbsp\;(incluso si se le ha unificado forzosamente desde Master a Adulto)La categoría Master hace un&nbsp\;&lt\;b&gt\;Absoluto Master Unificado&lt\;/b&gt\;&nbsp\;(que incluye de Master 1 a 7)ATLETAS MENORES DE 18 AÑOSLos atletas menores de 18 años que usen cinturones que no existen para su edad bajo el Sistema de Calificación General de la IBJJF solo podrán pelear en un grado acorde con su categoría de edad.ATLETA SOLO EN LA CATEGORÍALa organización siempre tratará de buscar combates&nbsp\;posibles en categoría para los atletas que hayan quedado solos unificándolos en edad o peso con otras categorías. Será responsabilidad única del atleta unificado comprobar estos cambios y\, en caso de que quiera modificarlos\, ponerse en contacto con la organización.&nbsp\;No se permitirán cambios o reembolsos por este motivo el día de la competición:&nbsp\;"Es que yo no quería que me unificaran\, quiero la medalla de mi categoría...".&nbsp\;No. El atleta debe comprobar la llave en la que está antes del día de la competición. Una vez comprobado\, estos atletas solos en la categoría (o que hayan sido unificados forzosamente a otra por parte de la organización) pueden elegir una de las siguientes opciones si contactan con la organización antes del día del campeonato.(En caso de que la categoría se llene con otro(s) atleta(s) durante la Verificación General\, estas opciones ya no estarán disponibles y el atleta permanecerá en su categoría.)OPCIÓN 1:Permanecer en la categoría actual\, dar el peso referente a su categoría y recibir la medalla de primer puesto.Después de verificar el peso\, el uniforme y recibir la medalla\, el atleta podrá registrarse para la categoría Absoluto si está disponible para su categoría.OPCIÓN 2:Subir a la siguiente categoría de Peso con participantes\, o en caso de Master bajar de categoría de Edad.Al subir o descender en edad y/o peso\, los atletas deben tener un oponente en la categoría elegida. Sin embargo\, la organización no puede garantizar que el oponente se presente el día de la pelea.&nbsp\;Los atletas deben hacer la selección de categoría después de verificar la Lista de atletas. La decisión de subir o bajar de edad y/o peso es responsabilidad del atleta. Si elige esta opción\, el atleta debe ser consciente de que es necesario estar dentro del límite de peso de la nueva categoría. El atleta debe especificar la categoría exacta que desea transferir proporcionando la primera y la segunda opción (las opciones se limitan a las categorías disponibles en el campeonato).Categorías de Master y Adulto: Para subir o bajar en la categoría de edad\, el atleta debe especificar una categoría de edad elegible determinada por su año de nacimiento.&nbsp\;Por ejemplo\, un atleta calificado para competir en Master 2 puede pasar a Master 1 o a Adulto\, pero no puede pasar a Master 3.Categorías Juveniles: dichos atletas NO podrán pelear en adulto si no tienen lucha en su categoría.OPCIÓN&nbsp\; 3:Cancelar la inscripción al campeonato para aquellos atletas que no tengan lucha.Podrán cancelar su inscripción 1 día después del cierre de las listas enviando un e-mail a&nbsp\;contacto.aejjb@hotmail.com.&nbsp\;Se les hará un&nbsp\;bono canjeable&nbsp\;(no reembolso) para otra competición perteneciente a la misma organización.POLÍTICA DE REEMBOLSO💰 Ofrecemos un&nbsp\;reembolso&nbsp\;por cancelar la inscripción según la fecha de la cancelación:90% durante inscripción&nbsp\;&lt\;b&gt\;anticipada&nbsp\;&lt\;/b&gt\;y&nbsp\;&lt\;b&gt\;normal&lt\;/b&gt\;.60% durante inscripción&nbsp\;&lt\;b&gt\;tardía&lt\;/b&gt\;.&nbsp\;PESAJE&nbsp\;MOMENTOS ANTES DEL COMBATEPara identificarse es obligatorio llevar un documento oficial con Foto para el pesaje: DNI\, PASAPORTE o Carnet federativoSolo se permitirá el pesaje&nbsp\;UNA VEZ&nbsp\;en la&nbsp\;báscula&nbsp\;oficial de la competición\,&nbsp\;el atleta que se pase del peso de su categoría&nbsp\;será descalificado&nbsp\;automáticamente\, quedando fuera de la competición\, sin el derecho de pedir el reembolso del valor de su inscripción.&nbsp\;No existirá ni 1 gramo de margen. 👀💥equipo arbitralEl equipo arbitral es totalmente independiente y ajeno a la AEJJB\, no favorecen ni perjudican a nadie\, sino que aplican el reglamento IBJJF de la manera más objetiva posible.&nbsp\;No se tolerará ninguna falta de respeto hacia ellos&nbsp\;antes\, durante\, ni después de los combates.Del mismo modo\,&nbsp\;los árbitros&nbsp\;tendrán el poder de descalificar y sancionar disciplinariamente&nbsp\;a Luchadores\, Entrenadores o Escuelas completas&nbsp\;antes\, durante y después&nbsp\;de sus combates e incluso después de terminada la competición. Estas sanciones irán desde la pérdida de puntos en la clasificación hasta la&nbsp\;expulsión vitalicia&nbsp\;de todos los eventos asociados a la AEJJB.Puntuación en el Ranking aejjb 20234 Estrellas:&nbsp\;⭐⭐⭐⭐&nbsp\;(Puntuación base x4):ORO -&nbsp\;200 puntos&nbsp\;🥇PLATA -80&nbsp\;puntos&nbsp\;🥈BRONCE -&nbsp\;20 puntos&nbsp\;🥉+4 puntos por cada victoria+4 puntos por sumisiónVer pestaña de RANKING para más infoVER CLASIFICACIÓN ACTUALAFILIARSE A LA AEJJB&nbsp\;(imprescindible para participar del sorteo de los&nbsp\;premio económicos&nbsp\;entre los campeones del Ranking). Los demás premios serán ofrecido a todos los atletas\, afiliados y no afiliados.Organizer &amp\; merchantAsociación Española de Jiu-jitsu Brasileño&nbsp\;\\n\\nMore info: https://smoothcomp.com/en/event/31369\\n\\nView on EuroBJJ: https://eurobjj.com/events/1659
URL:https://smoothcomp.com/en/event/31369
END:VEVENT
END:VCALENDAR
