BEGIN:VCALENDAR
VERSION:2.0
PRODID:-//EuroBJJ//Event Calendar//EN
CALSCALE:GREGORIAN
METHOD:PUBLISH
X-WR-CALNAME:EuroBJJ Events
BEGIN:VEVENT
UID:event-1759@eurobjj.com
DTSTAMP:20260421T061922Z
DTSTART;VALUE=DATE:20260613
DTEND;VALUE=DATE:20260614
SUMMARY:COUPE DE FRANCE 2026 JJB/GRAPPLING/LUTTE
LOCATION:Jean Grob\, NILVANGE\, France
DESCRIPTION:More info: https://smoothcomp.com/en/event/31702\\n\\nView on EuroBJJ: https://eurobjj.com/events/1759
URL:https://smoothcomp.com/en/event/31702
END:VEVENT
END:VCALENDAR
