BEGIN:VCALENDAR
VERSION:2.0
PRODID:-//EuroBJJ//Event Calendar//EN
CALSCALE:GREGORIAN
METHOD:PUBLISH
X-WR-CALNAME:EuroBJJ Events
BEGIN:VEVENT
UID:event-1654@eurobjj.com
DTSTAMP:20260420T081545Z
DTSTART;VALUE=DATE:20260524
DTEND;VALUE=DATE:20260525
SUMMARY:COUPE DE FRANCE – COMBAT JIU JITSU ( GI)\, GRAPPLING (NOGI)\, COMBAT COMPLET LIGHT ( NOGI)
LOCATION:Dojo Merlet\, Belfort\, France
DESCRIPTION:3 épreuves :1- Combat jiu jitsu – GI : selon les règles IBJJF : cadets\, juniors\, seniors\,maîtres\, femmes- Absolute homme -77kg/ +77kg \, Absolute femme toute catégorie de poids. L'accès àl'absolute sont réservés aux seniors et masters uniquement2- Grappling- NOGI : selon les règles IBJJF&nbsp\;Tenue : (short et rashguard)&nbsp\;Catégories : cadets\, juniors\, seniors\, féminines\, masters- Absolute : Absolute homme -77kg/ +77kg \, Absolute femme toute catégorie de poids. Lesl'accès à l'absolu est réservé aux seniors et masters uniquement3 - Combat Complet léger (NOGI) : tenue NOGI : short + rashguard + protection poings pieds contrôlés\, projection\, soumission\, frappe à la tête au sol contrôlé. protection obligatoire (coquille\, protège pied tibia\, gants MMA homologués\, casque). Short et rashguard \, ni fermeture éclair\, ni poches et en bon état. Couleurs pasimportants.Tous les combats se feront à élimination directe.Horaires prévisionnels : (il faudra consulter le site régulièrement pour des horaires plus précis)09h30 : Jiu-jitsu de combat (GI) cadets juniors – maîtres10h00 : combat jiu jitsu (GI) seniors10h45 : lutte cadets - juniors11h30 : Grappling seniors - masters13h30 : GI absolue – NOGI14h00 : Combat complet : cadets – juniors14h00 : combat complet seniors – mastersPour la pesée :Présenter une pièce d'identité ainsi qu'un certificat médical stipulant l'aptitude dans la/les disciplines choisies mentionnant « en compétition »La pesée se fait en short et rashguard. Aucune tolérance. Une seule pesée est autorisée (des balances test seront accessibles)Il n'y aura pas de changement de catégorie\, les combattants seront disqualifiés sans remboursement s'ils ne sont pas au poids de la catégorie dans laquelle ils se sont inscrits et pas d'accès à l'absolu.Pas de remboursement non plus si vous êtes en retard ou sans certificat médical présenté.3ème appel = disqualificationCatégories d'âge et de poids homme :Cadets : (2010-11) -50kg\, -56kg\, -62kg\, -70kg\, +70kgJuniors : (2009-07) -62kg\, -70kg\, -77kg\, -85kg\, -94kg\, +94kgSeniors : (2006-1987) -64 kg\, -70 kg\, -77 kg\, -85 kg\, -94 kg\, +94 kgMaître 1 : (1986-80) -64 kg\, -70 kg\, -77 kg\, -85 kg\, -94 kg\, +94 kgMaster 2 : (1979-75) -64 kg\, -70 kg\, -77 kg\, -85 kg\, -94 kg\, +94 kgMaster 3 : (1974 et +) -64kg\, -70kg\, -77kg\, -85kg\, -94kg\, +94kgCatégories d'âge et de poids femme :Cadettes : (2010-11) -45kg\, -50kg\, -56kg\, -63kg\, +63kgJuniors : (2009-07) -48 kg\, -55 kg\, -62 kg\, -69 kg\, -76 kg\, +76 kgSeniors : (2006-1987) -48 kg\, -55 kg\, -62 kg\, -69 kg\, -76 kg\, +76 kgMaster 1 : (1986-80) -48 kg\, -55 kg\, -62 kg\, -69 kg\, -76 kg\, +76 kgMaster 2 : (1979 et + ) -48kg\, -55kg\, -62kg\, -69kg\, -76kg\, +76kg3 catégories de niveau (classe A\, B\, C) (en cadets et juniors 2 catégories : C et B) :&nbsp\;Classe C débutant : – de 2 ans de pratiqueClasse B intermédiaire : + de 2 ans de pratique ou ceinture bleue ou violette JJB (orange\,&nbsp\;marron et plus dans une autre discipline)Classe A avancée : ceintures marron et noire JJB ou grappling. ou ceintures autres noiresdisciplinesCependant si un combattant est seul dans sa catégorie il pourra\, avec son accord\, être regroupé avec une catégorie proche de poids ou de niveau.Conditions d'inscription :&nbsp\;° Licence FINCA saison 2025-26 (27€)° Certificat médical à jour dans la discipline mentionnant l'aptitude à la compétition° Autorisation parentale pour les – de 18 ansPrix ​​:CODE PROMO POUR INSCRIPTIONS A 2 ÉPREUVES\, RÉDUCTION -7€CODE DE REDUCTION A ECRIRE LORS DU PAIEMENT --&gt\; 2EPRJusqu'au 11 mai 2026Inscription au Gi ou No Gi adulte : 25 €Inscription au Gi et No Gi adulte : 43 €Inscription à l'absolue : 15 € en plus de l'inscription initialeInscription au Gi ou No Gi cadet ou junior : 15 €Inscription au Gi et No Gi cadet ou junior : 23 €Du 12 au 17 mai 2026Inscription au Gi ou No Gi adulte : 35 €Inscription au Gi et No Gi adulte : 63 €Inscription à l'absolue : 25 € en plus de l'inscription initialeInscription au Gi ou No Gi cadet ou junior : 25 €Inscription au Gi et No Gi cadet ou junior : 53 €Dates à retenir :17 mai 2026 : Fin des inscriptionsLa date limite d'inscription expire à 23h59\, heure de la France métropolitaine17 mai 2026 : Date limite de modification de l'inscriptionLes athlètes peuvent modifier leur catégorie d'âge\, leur catégorie de poids et de niveau en se connectant à leur compteDu 17 au 20 mai 2026 : proposition de regroupementLes athlètes seuls dans leur tableau pourront recevoir de smoothcomp une proposition deregroupement. Ils envoient doivent un e-mail à Competitionfinca@gmail.com afin d'indiquerleur accord ou non. Sans retour de leur part\, le regroupement sera validé.L'athlète vérifie la liste des inscrits et s'il est seul dans la catégorie \, il doit envoyer un e-mail à Competitionfinca@gmail.com avec leur option d'inscription :1 - rester inscrit2 - demander un changement de catégorie3 - demander un remboursementPar défaut le choix 1 sera pris en compte.Si le jour du contrôle\, la catégorie possède au minimum deux athlètes inscrits\, l'athlèterestera obligatoirement dans sa catégorie et ne sera plus éligible au remboursement.20 mai 2026 : mise à jour des horaires de pesée par discipline\\n\\nMore info: https://smoothcomp.com/en/event/31387\\n\\nView on EuroBJJ: https://eurobjj.com/events/1654
URL:https://smoothcomp.com/en/event/31387
END:VEVENT
END:VCALENDAR
