BEGIN:VCALENDAR
VERSION:2.0
PRODID:-//EuroBJJ//Event Calendar//EN
CALSCALE:GREGORIAN
METHOD:PUBLISH
X-WR-CALNAME:EuroBJJ Events
BEGIN:VEVENT
UID:event-1778@eurobjj.com
DTSTAMP:20260423T073702Z
DTSTART;VALUE=DATE:20260711
DTEND;VALUE=DATE:20260712
SUMMARY:DFC GAMES #6 (NO-GI WHITE BELTS ONLY)
LOCATION:DFC Ridderkerk\, Ridderkerk\, Netherlands
DESCRIPTION:DFC GAMES #6 is a Gi tournament exclusively for white belts\, split into two divisions: **Novice** (never competed\, max 1 year experience) and **Beginner** (white belts only\, max 3 years training).\n\nCompetition uses an adjusted IBJJF ruleset with a Round Robin format—multiple matches per competitor\, top 2 advance to finals\, 3rd and 4th place compete for bronze. Large brackets are split into groups with winners progressing to finals.\n\n**Event highlights:**\n\n- Capped at 100 competitors for quality control\n- Doors 10:00\, competition starts 11:00\n- Weigh-in one hour before each competitor's first match (with outfit\; 0.5 kg allowance)\n- Medal ceremony immediately after each bracket finishes\n- Medals for 1st\, 2nd\, and 3rd place with podium for photos\n- Spectators €5 entry (cash or card)\; coaches free (1 per gym with ≤4 competitors\, 2 per gym with more)\n\n*For full details and registration\, visit the official event page.*\\n\\nMore info: https://smoothcomp.com/en/event/31854\\n\\nView on EuroBJJ: https://eurobjj.com/events/1778
URL:https://smoothcomp.com/en/event/31854
END:VEVENT
END:VCALENDAR
