BEGIN:VCALENDAR
VERSION:2.0
PRODID:-//EuroBJJ//Event Calendar//EN
CALSCALE:GREGORIAN
METHOD:PUBLISH
X-WR-CALNAME:EuroBJJ Events
BEGIN:VEVENT
UID:event-1534@eurobjj.com
DTSTAMP:20260422T110127Z
DTSTART;VALUE=DATE:20260614
DTEND;VALUE=DATE:20260615
SUMMARY:DRAGON CUP
LOCATION:Werner-Herold-halle\, 68535 Edingen-Neckarhausen\, Germany
DESCRIPTION:The DRAGON CUP is a youth-focused Gi and No-Gi tournament in Round Robin format\, catering to children aged 4–15 across multiple belt levels from white to expert.\n\n**Registration:**\n- Single format (Gi or NoGi): €40 early bird\, €50 regular\, €60 late\n- Both formats: €60 early bird\, €70 regular\, €80 late\n- Weight class changes allowed until June 10\, 2026\n\n**Competition details:**\n- IBJJF ruleset with no advantage points or penalties\n- Tied matches decided by 1-minute Golden Score\n- Competitors without opponents in their division are reassigned to ensure at least 2 matches (teens excluded from gender reassignment)\n- Strict weigh-in: one attempt only\, no tolerance\; failure results in disqualification\n\n**Medals & atmosphere:**\nEvery child receives a medal. Divisions award Gold\, Silver\, and Bronze to top 3\, with participation medals for all others.\n\nDoors open at 9:00\; each competitor must weigh in at least 1 hour before their first match. Hall floor access requires flip-flops or socks only—no street shoes or barefoot. Spectators welcome under the same footwear rules\; training on mats is not permitted.\n\n*For full details and registration\, visit the official event page.*\\n\\nMore info: https://smoothcomp.com/en/event/30707\\n\\nView on EuroBJJ: https://eurobjj.com/events/1534
URL:https://smoothcomp.com/en/event/30707
END:VEVENT
END:VCALENDAR
