BEGIN:VCALENDAR
VERSION:2.0
PRODID:-//EuroBJJ//Event Calendar//EN
CALSCALE:GREGORIAN
METHOD:PUBLISH
X-WR-CALNAME:EuroBJJ Events
BEGIN:VEVENT
UID:event-1537@eurobjj.com
DTSTAMP:20260423T125124Z
DTSTART;VALUE=DATE:20261024
DTEND;VALUE=DATE:20261025
SUMMARY:EIDSVOLL OPEN 5
LOCATION:Norway
DESCRIPTION:Eidsvoll Open 5 is a No-Gi Submission Wrestling tournament for Juveniles\, Adults\, and Masters 1\, spanning five skill levels from Novice through Expert (brown and black belt).\n\n**Tournament details:**\n\n- Special SW (Submission Wrestling) rules\n- Registration: 150 NOK per person at the door\; coaches enter free (max two per team)\n- Doors open 8:00\, rules meeting at 9:00\, competition starts 9:30\n- Weigh-in upon arrival during registration\n- Limited capacity—first come\, first served\n- Brackets published the day before\n- Athletes may move up divisions but moving down is prohibited\n- Weight categories may be combined if needed\n\n**Prize money for absolute categories:**\n- Expert (Male/Female): 10\,000 NOK\n- Advanced (Male/Female): 5\,000 NOK\n- Intermediate (Male/Female): 2\,000 NOK\n\nOn-site facilities include showers and a kiosk (card and Vipps accepted).\n\n*For full details and registration\, visit the official event page.*\\n\\nMore info: https://smoothcomp.com/en/event/30770\\n\\nView on EuroBJJ: https://eurobjj.com/events/1537
URL:https://smoothcomp.com/en/event/30770
END:VEVENT
END:VCALENDAR
