BEGIN:VCALENDAR
VERSION:2.0
PRODID:-//EuroBJJ//Event Calendar//EN
CALSCALE:GREGORIAN
METHOD:PUBLISH
X-WR-CALNAME:EuroBJJ Events
BEGIN:VEVENT
UID:event-1761@eurobjj.com
DTSTAMP:20260421T061439Z
DTSTART;VALUE=DATE:20260517
DTEND;VALUE=DATE:20260518
SUMMARY:ÉLITE KIDS 6
LOCATION:Halle Georges Carpentier\, Paris\, France
DESCRIPTION:ÉLITE KIDS 6 is the official France Grappling youth competition\, featuring Gi and No-Gi divisions across seven age categories from U7 through U20. Results count toward the National Ranking.\n\n**Competition structure:**\n\n- **U7–U15:** Mixed gender categories\, IBJJF rules (Gi) and UWW rules (No-Gi)\n- **U13–U20:** Divided by skill level (Beginners: under 2 years practice\; Confirmed: 2+ years). Uses an innovative two-phase format—submission phase first\, then points phase if no submission occurs\n- **U17:** €30 entry (Gi or No-Gi)\n- **U7–U15:** €20 entry (Gi or No-Gi)\n- **Spectators:** €5\n\n*For full details and registration\, visit the official event page.*\\n\\nMore info: https://smoothcomp.com/en/event/29142\\n\\nView on EuroBJJ: https://eurobjj.com/events/1761
URL:https://smoothcomp.com/en/event/29142
END:VEVENT
END:VCALENDAR
