BEGIN:VCALENDAR
VERSION:2.0
PRODID:-//EuroBJJ//Event Calendar//EN
CALSCALE:GREGORIAN
METHOD:PUBLISH
X-WR-CALNAME:EuroBJJ Events
BEGIN:VEVENT
UID:event-1551@eurobjj.com
DTSTAMP:20260423T104050Z
DTSTART;VALUE=DATE:20260404
DTEND;VALUE=DATE:20260405
SUMMARY:Enyo 8
LOCATION: Hutton Moor Leisure Centre\, North Somerset\, United Kingdom
DESCRIPTION:&nbsp\;Enyo 8 – Women’s BJJ &amp\; Grappling | Hutton Moor Leisure Centre\, North SomersetEnyo is on tour! Join us in North Somerset for Enyo 8\, a showcase of the UK’s top women’s grappling talent.Hosted at Hutton Moor Leisure Centre\, this event brings together elite competitors from across the country for an evening of high-level technique\, skillful submissions\, and fast-paced matches. Whether you're a grappling enthusiast or new to the sport\, Enyo offers an exciting\, all-female card with something for everyone.Expect a professionally run event with an electric atmosphere — no distractions\, just pure grappling.🎟 Tickets are now on sale – don’t miss out.&nbsp\;\\n\\nMore info: https://www.eventbrite.com/e/enyo-8-tickets-1705990055179\\n\\nView on EuroBJJ: https://eurobjj.com/events/1551
URL:https://www.eventbrite.com/e/enyo-8-tickets-1705990055179
END:VEVENT
END:VCALENDAR
