BEGIN:VCALENDAR
VERSION:2.0
PRODID:-//EuroBJJ//Event Calendar//EN
CALSCALE:GREGORIAN
METHOD:PUBLISH
X-WR-CALNAME:EuroBJJ Events
BEGIN:VEVENT
UID:event-1758@eurobjj.com
DTSTAMP:20260420T090656Z
DTSTART;VALUE=DATE:20260523
DTEND;VALUE=DATE:20260524
SUMMARY:FIGHT2SUBMIT GRAZ OPEN | 23 MAY
LOCATION:Zitadelle Graz\, Graz\, Austria
DESCRIPTION:FIGHT2SUBMIT GRAZ OPEN takes place on May 23\, 2026\, with Gi and No-Gi competition in a Round Robin Multi Stage format under IBJJF rules.\n\n**Registration & schedule:**\n- Early bird: €20 | Normal: €25 | Late: €40\n- Doors open 8:00\, weigh-in at 8:30\, competition starts 9:30\n- Brackets published at least 24 hours in advance\n- Athlete overview available on the event website\n\n*For full details and registration\, visit the official event page.*\\n\\nMore info: https://smoothcomp.com/en/event/31714\\n\\nView on EuroBJJ: https://eurobjj.com/events/1758
URL:https://smoothcomp.com/en/event/31714
END:VEVENT
END:VCALENDAR
