BEGIN:VCALENDAR
VERSION:2.0
PRODID:-//EuroBJJ//Event Calendar//EN
CALSCALE:GREGORIAN
METHOD:PUBLISH
X-WR-CALNAME:EuroBJJ Events
BEGIN:VEVENT
UID:event-1776@eurobjj.com
DTSTAMP:20260422T235137Z
DTSTART;VALUE=DATE:20260610
DTEND;VALUE=DATE:20260615
SUMMARY:Figure it out Iceland 2026
LOCATION:Mjölnir gym\, Reykjavik\, Iceland
DESCRIPTION:Greg Souders and Max Bickerton will be your coaches for the biggest and best CLA grappling camp. Hosted in the world famous Mjölnir gym\, in Reykjavik\, Iceland.Whether you’re new to grappling or a seasoned pro looking to deepen your skillset\, this camp is designed to be inclusive\, educational and fun for all involved. With a wide range of daily community events\, come with your friends or come alone and make some new ones on and off the mats!For the grappling\, we’ll have 10 classes in total\, 09:00-12:00 every day for 5 days. Giving you the rest of the day to enjoy our community events\, the breathtaking nature that Iceland has to offer or whatever else takes your fancy!The camp also includes full access to the amazing facilities at the gym\, including sauna\, cold plunge\, weightlifting etc.For full details and to see our safeguarding policy please go to our instagram page.\\n\\nMore info: https://fienta.com/figure-it-out-summer-camp-163994\\n\\nView on EuroBJJ: https://eurobjj.com/events/1776
URL:https://fienta.com/figure-it-out-summer-camp-163994
END:VEVENT
END:VCALENDAR
