BEGIN:VCALENDAR
VERSION:2.0
PRODID:-//EuroBJJ//Event Calendar//EN
CALSCALE:GREGORIAN
METHOD:PUBLISH
X-WR-CALNAME:EuroBJJ Events
BEGIN:VEVENT
UID:event-1752@eurobjj.com
DTSTAMP:20260420T035635Z
DTSTART;VALUE=DATE:20261010
DTEND;VALUE=DATE:20261011
SUMMARY:FIRST BRAZILIAN-LED BJJ CHAMPIONSHIP IN CZECH REPUBLIC
LOCATION:SA Rokytka\, Prague\, Czechia\, Czechia
DESCRIPTION:The First Brazilian-Led BJJ Championship in Czech Republic is coming to the region.\n\n*For full details and registration\, visit the official event page.*\\n\\nMore info: https://smoothcomp.com/en/event/30170\\n\\nView on EuroBJJ: https://eurobjj.com/events/1752
URL:https://smoothcomp.com/en/event/30170
END:VEVENT
END:VCALENDAR
