BEGIN:VCALENDAR
VERSION:2.0
PRODID:-//EuroBJJ//Event Calendar//EN
CALSCALE:GREGORIAN
METHOD:PUBLISH
X-WR-CALNAME:EuroBJJ Events
BEGIN:VEVENT
UID:event-1662@eurobjj.com
DTSTAMP:20260422T095933Z
DTSTART;VALUE=DATE:20260708
DTEND;VALUE=DATE:20260709
SUMMARY:GERÊS JIU-JITSU SUMMER CAMP
LOCATION:Parque de Campismo de Pichoses\, Rio Caldo\, Portugal
DESCRIPTION:GERÊS JIU-JITSU SUMMER CAMP is a 5-day immersive experience set in Portugal's Peneda-Gerês National Park\, combining Jiu-Jitsu and Grappling training with adventure activities. Participants (18+ or with guardian) stay in camping accommodation on the banks of Caniçada Dam.\n\n**What's included:**\n- Jiu-Jitsu and Grappling instruction\n- Recreational activities: radical tubes\, motorboat ride\, canoeing\, inflatable water park\n- Lunch daily\n- Sports insurance\n\n**Pricing options:**\n- Complete pack (5 days/4 nights): €350\n- 3 days/2 nights: €250\n- 2 days/1 night: €190\n- €50 deposit required via Smoothcomp (deducted from total). Refundable until June 15\, 2026\; non-refundable after.\n\n*For full details and registration\, visit the official event page.*\\n\\nMore info: https://smoothcomp.com/en/event/31335\\n\\nView on EuroBJJ: https://eurobjj.com/events/1662
URL:https://smoothcomp.com/en/event/31335
END:VEVENT
END:VCALENDAR
