BEGIN:VCALENDAR
VERSION:2.0
PRODID:-//EuroBJJ//Event Calendar//EN
CALSCALE:GREGORIAN
METHOD:PUBLISH
X-WR-CALNAME:EuroBJJ Events
BEGIN:VEVENT
UID:event-1554@eurobjj.com
DTSTAMP:20260423T131454Z
DTSTART;VALUE=DATE:20260328
DTEND;VALUE=DATE:20260329
SUMMARY:Grapple Worlds 2
LOCATION:Kassam Stadium\, Littlemore\, United Kingdom
DESCRIPTION:Grapple Worlds 2 features a single elimination tournament format with four title fights headlined by Nathan Orchard vs Cal Ellenor. The card includes the inaugural Women's Grand Prix Bracket and a five-versus-five Quintet match. Cash submission bonuses are on offer.\n\n*For full details and registration\, visit the official event page.*\\n\\nMore info: https://www.eventbrite.com/e/grapple-worlds-2-tickets-1968041055776\\n\\nView on EuroBJJ: https://eurobjj.com/events/1554
URL:https://www.eventbrite.com/e/grapple-worlds-2-tickets-1968041055776
END:VEVENT
END:VCALENDAR
