BEGIN:VCALENDAR
VERSION:2.0
PRODID:-//EuroBJJ//Event Calendar//EN
CALSCALE:GREGORIAN
METHOD:PUBLISH
X-WR-CALNAME:EuroBJJ Events
BEGIN:VEVENT
UID:event-1567@eurobjj.com
DTSTAMP:20260423T131017Z
DTSTART;VALUE=DATE:20260517
DTEND;VALUE=DATE:20260518
SUMMARY:GRAPPLECITY: BELGIUM SUMMER OPEN
LOCATION:Sport Vlaanderen Gent\, Gent\, Belgium
DESCRIPTION:GRAPPLECITY: BELGIUM SUMMER OPEN is a Gi and No-Gi tournament featuring Kids\, Teens\, Adults\, and Masters divisions under IBJJF rules with no advantages.\n\n**Registration (tiered pricing):**\n- Early (until Feb 8): Kids/Teens €37–€54\, Adults/Masters €45–€110\n- Normal (until Mar 8): Kids/Teens €47–€64\, Adults/Masters €55–€120\n- Late (until Mar 18): Kids/Teens €57–€74\, Adults/Masters €65–€130\n- Absolute divisions: €40 standalone or €20 added to other entries\n- Brown/Black Belts and Pro MMA Fighters receive 50% discount\n\n**Event details:**\n- Doors 8:30am\, competition starts 9:30am\, weigh-in at registration\n- 7x7m Zebra mats\, dedicated warm-up area\, crowd control barriers\n- Professional medical team on-site\n- Event coverage by GrappleVision (photographer and videographer)\n- Spectator entry: €5 at registration desk\n\n**Prizes:** €500 and a unique Irish Hurley trophy to the top team.\n\nNote: Registration closes when maximum competitor capacity is reached.\n\n*For full details and registration\, visit the official event page.*\\n\\nMore info: https://grapplecity.smoothcomp.com/en/event/28981\\n\\nView on EuroBJJ: https://eurobjj.com/events/1567
URL:https://grapplecity.smoothcomp.com/en/event/28981
END:VEVENT
END:VCALENDAR
