BEGIN:VCALENDAR
VERSION:2.0
PRODID:-//EuroBJJ//Event Calendar//EN
CALSCALE:GREGORIAN
METHOD:PUBLISH
X-WR-CALNAME:EuroBJJ Events
BEGIN:VEVENT
UID:event-1779@eurobjj.com
DTSTAMP:20260423T073850Z
DTSTART;VALUE=DATE:20260913
DTEND;VALUE=DATE:20260914
SUMMARY:GRAPPLECITY: GRONINGEN OPEN 2026
LOCATION:Sporthal Hoogkerk\, Groningen\, Netherlands
DESCRIPTION:GRAPPLECITY: GRONINGEN OPEN 2026 is a Gi and No-Gi tournament for Kids\, Teens\, and Adults competing under IBJJF rules with no advantages.\n\n**Registration (tiered pricing by deadline):**\n- Early (until Aug 2): Kids/Teens €37–€54 | Adults €45–€110\n- Normal (until Aug 30): Kids/Teens €47–€64 | Adults €55–€120\n- Late (until Sept 9): Kids/Teens €57–€74 | Adults €65–€130\n- Absolute divisions: €40 standalone or €20 added to other entries\n\nCompetitors can enter up to 4 divisions. Brown and Black Belts receive 50% discount\; Pro MMA Fighters also qualify for 50% off (email events@grapplecity.com before payment).\n\n**Event details:**\n- Doors 8:30am\, competition starts 9:30am\, weigh-in at registration\n- 7x7m Zebra mats\, warm-up area\, professional medical team\n- Event photographer and videographer on site\n- Spectator entry: €5 at the registration desk\n- Top team wins €500 plus a unique Irish Hurley trophy\n\n*For full details and registration\, visit the official event page.*\\n\\nMore info: https://grapplecity.smoothcomp.com/en/event/29603\\n\\nView on EuroBJJ: https://eurobjj.com/events/1779
URL:https://grapplecity.smoothcomp.com/en/event/29603
END:VEVENT
END:VCALENDAR
