BEGIN:VCALENDAR
VERSION:2.0
PRODID:-//EuroBJJ//Event Calendar//EN
CALSCALE:GREGORIAN
METHOD:PUBLISH
X-WR-CALNAME:EuroBJJ Events
BEGIN:VEVENT
UID:event-1661@eurobjj.com
DTSTAMP:20260421T091805Z
DTSTART;VALUE=DATE:20260628
DTEND;VALUE=DATE:20260629
SUMMARY:GRAPPLECITY: ULSTER OPEN 2026
LOCATION:Newry Leisure Centre\, Newry\, Ireland
DESCRIPTION:Location: Newry Leisure Centre\, 60 Cecil St\, Newry\, Co. Down\, BT35 6AUSchedule:&nbsp\;Doors open 9am\, first match is 10amRules: IBJJF rules/points\, the only difference is there are no advantages.&nbsp\;What to expect:We run on a set of 8x8metre Zebra competition mats\, allowing for fewer resets due to larger mat spaceProper warm up area&nbsp\;Crowd control barriersProfessional medic on siteUnique team trophy - "Tipperary style" Hurley to the top team£500 prize to the top teamClothing partner Motion BJJ looking after all your needs -&nbsp\;"Motion is created by the destruction of balance"Discounted entry if doing multiple divisionsEvent photographerRegistrations:&nbsp\;Early registration -&nbsp\;Kids/Teens&nbsp\;1 division £37 / 2 divisions £54 (Gi/Nogi)&nbsp\;until May 17thAdults&nbsp\;1 division £45 / 2 divisions £70&nbsp\;(Gi/Nogi) / 3 divisions £90 (Gi/Nogi/absolute) / 4 divisions £110&nbsp\;(Gi/Nogi/both absolutes) until May 17thNormal Registration -&nbsp\;Kids/Teens&nbsp\;1 division £47 / 2 divisions £64 (Gi/Nogi)&nbsp\;until June 14thAdults&nbsp\;1 division £55 / 2 divisions £80&nbsp\;(Gi/Nogi) / 3 divisions £100&nbsp\;(Gi/Nogi/absolute) /&nbsp\;4 divisions £120&nbsp\;(Gi/Nogi/both absolutes) until June 14thLate registration -&nbsp\;Kids/Teens&nbsp\;1 division £57 / 2 divisions £74 (Gi/Nogi)&nbsp\;until June 24thAdults&nbsp\;1 division £65 / 2 divisions £90&nbsp\;(Gi/Nogi) / 3 divisions £110&nbsp\;(Gi/Nogi/absolute) / 4 divisions £130&nbsp\;(Gi/Nogi/both absolutes) until June 24thAbsolute divisions&nbsp\;are £40 if you're looking to enter without doing regular Gi/Nogi division also. Absolute divisions are discounted to £20 if you've entered Gi or Nogi divisions.&nbsp\;Spectators&nbsp\;£5 at the registration deskMaximum Registration threshold:&nbsp\;Normal &amp\; Late registration will continue until maximum competitors number is reached.Offer:&nbsp\;Brown/Black Belts 50% off. Pro MMA Fighter 50% off.In order to claim this discount\, email us before payment is made &amp\; we'll verify your registration - GrappleCityorg@gmail.comChanging divisions: After late registration closes\, all competitors (or coaches\, parents) have until 5PM the following day to make any changes. These changes can be made by logging in &amp\; modifying your details. After this change deadline\, it will no longer be available to access &amp\; change. Competitors who are on their own in a division can change to move up a division or cancel their registration for a full credit. Check out:&nbsp\;https://support.smoothcomp.com/article/89-how-to-change-weightclass-or-cancel&nbsp\;for more.Refund policy: Refunds are available up until the end of the early bird date via logging into your smoothcomp a/c. From the normal reg deadline until the tournament itself\, only full credits for future tournaments will be issued. If your opponent doesn't show up on the day you will receive a full coupon credit.If the registration deadline passes &amp\; there is no one in your division\, we will aim to move you to a different divison where possible (you will receive communication in relation to this).&nbsp\;If this is not feasible a credit will be raised in line with our refund policy. This can be used on any of our tournaments.Brackets &amp\; Schedule: Event brackets will be released at 12 midday on July 18th. You can see when your match is on by monitoring your smoothcomp page. TV screens in the venue on the day will also show this.\\n\\nMore info: https://grapplecity.smoothcomp.com/en/event/25758\\n\\nView on EuroBJJ: https://eurobjj.com/events/1661
URL:https://grapplecity.smoothcomp.com/en/event/25758
END:VEVENT
END:VCALENDAR
