BEGIN:VCALENDAR
VERSION:2.0
PRODID:-//EuroBJJ//Event Calendar//EN
CALSCALE:GREGORIAN
METHOD:PUBLISH
X-WR-CALNAME:EuroBJJ Events
BEGIN:VEVENT
UID:event-1771@eurobjj.com
DTSTAMP:20260422T070042Z
DTSTART;VALUE=DATE:20260627
DTEND;VALUE=DATE:20260628
SUMMARY:GRAPPLING INDUSTRIES MADRID
LOCATION:Centro Deportivo Amorós\, C. de Joaquín Turina\, 39\, Carabanchel\, 28044 Madrid\, Spain\, Madrid\, Spain
DESCRIPTION:Grappling Industries Madrid runs Gi and No-Gi competition in Round Robin format\, guaranteeing 4–6 matches per division. Registration is **pre-registration only**—no on-site sign-ups allowed.\n\n**Registration:**\n- Normal: €70 (before June 6\, 11:59pm)\n- Late: €95 (before June 23\, 11:59pm)\n- Absolute division: +€20\n- Price includes one Gi and one No-Gi division\n\n**Schedule:**\nDoors open 7:30am\, competition starts 9:00am. Weigh-ins run from door opening until 60 minutes before your division.\n\n**Key features:**\n- Brackets and schedule posted 48 hours ahead\n- Live competitor list and team standings updated in real-time\n- International rankings tracked by gender\, age\, weight\, and skill level (filterable globally\, continentally\, or nationally)\n- Best Overall Academy awards for Adults and Kids\n- Each event has a capacity limit\; registration closes early if full\n\nSpectator entry: €10 cash only.\n\n*For full details and registration\, visit the official event page.*\\n\\nMore info: https://grapplingindustries.smoothcomp.com/en/event/31883\\n\\nView on EuroBJJ: https://eurobjj.com/events/1771
URL:https://grapplingindustries.smoothcomp.com/en/event/31883
END:VEVENT
END:VCALENDAR
