BEGIN:VCALENDAR
VERSION:2.0
PRODID:-//EuroBJJ//Event Calendar//EN
CALSCALE:GREGORIAN
METHOD:PUBLISH
X-WR-CALNAME:EuroBJJ Events
BEGIN:VEVENT
UID:event-1550@eurobjj.com
DTSTAMP:20260423T182019Z
DTSTART;VALUE=DATE:20260614
DTEND;VALUE=DATE:20260615
SUMMARY:GRAPPLING SERIES CORK OPEN SUMMER 2026
LOCATION:Neptune Stadium\, Cork\, Ireland
DESCRIPTION:The Grappling Series Cork Open Summer 2026 is a Gi and No-Gi tournament following IBJJF rules\, open to Kids\, Juveniles\, Adults\, and Masters.\n\n**Registration fees:**\n- Kids/Juvenile: €40 (early bird)\, €50 (normal)\, €60 (late)\n- Adult/Master: €55 (early bird)\, €65 (normal)\, €75 (late)\n- Absolute/Open Weight: free\n- Register for both divisions and pay half price for the second category\n\n**Important details:**\n- Weigh-ins occur just before the first match\; competitors get one attempt to make weight\n- Athletes exceeding their registered weight category will be disqualified\n- Arrive at least one hour before your division starts for warm-up access\n- Bring official government-issued photo ID or IBJJF membership card before each match\n- Weights measured in kilograms\n- Registration closes when capacity is reached or at the published deadline\n\n*For full details and registration\, visit the official event page.*\\n\\nMore info: https://smoothcomp.com/en/event/30026\\n\\nView on EuroBJJ: https://eurobjj.com/events/1550
URL:https://smoothcomp.com/en/event/30026
END:VEVENT
END:VCALENDAR
