BEGIN:VCALENDAR
VERSION:2.0
PRODID:-//EuroBJJ//Event Calendar//EN
CALSCALE:GREGORIAN
METHOD:PUBLISH
X-WR-CALNAME:EuroBJJ Events
BEGIN:VEVENT
UID:event-1546@eurobjj.com
DTSTAMP:20260423T170451Z
DTSTART;VALUE=DATE:20260711
DTEND;VALUE=DATE:20260712
SUMMARY:GSLS TOLEDO INTERNATIONAL OPEN
LOCATION:Spain
DESCRIPTION:The GSLS Toledo International Open is the second official stage of the 2025-2026 Ranking\, featuring Gi\, NoGi\, and Team Clash formats under GSLS rules. Competition spans Kids\, Teens\, Adults\, and three Master divisions across all belt levels.\n\n**Registration (closes when capacity reached):**\n- Until April 30: €50 (1 modality) / €80 (both)\n- Until May 30: €60 (1 modality) / €100 (both)\n- Until July 7: €70 (1 modality) / €110 (both)\n- Kids & Teens: €50 flat rate\n\n**Schedule:**\nWeigh-ins on Friday\, July 10 (17:30–20:30) and Saturday\, July 11 (08:00–09:00). Check for schedule updates closer to the event.\n\n**Format & Prizes:**\nRound Robin individual competition with medals for Champion\, Runner-up\, and Double Bronze. Team Clash features 5 main competitors plus up to 2 substitutes per team\, with trophy awarded to the top 3 academies. Prize pools vary by team count (€350–€1000)\, plus €100 each for Event MVP and Submission of the Day.\n\nAthletes must download credentials to participate. Ranking points are awarded only to those who compete in at least one match.\n\n*For full details and registration\, visit the official event page.*\\n\\nMore info: https://gsl-spain.smoothcomp.com/en/event/30701\\n\\nView on EuroBJJ: https://eurobjj.com/events/1546
URL:https://gsl-spain.smoothcomp.com/en/event/30701
END:VEVENT
END:VCALENDAR
