BEGIN:VCALENDAR
VERSION:2.0
PRODID:-//EuroBJJ//Event Calendar//EN
CALSCALE:GREGORIAN
METHOD:PUBLISH
X-WR-CALNAME:EuroBJJ Events
BEGIN:VEVENT
UID:event-1563@eurobjj.com
DTSTAMP:20260423T112724Z
DTSTART;VALUE=DATE:20260321
DTEND;VALUE=DATE:20260322
SUMMARY:HVÍTUR Á LEIK (NOGI) 2026
LOCATION:VBC Bardagaíþróttir\, Kópavogur\, Iceland
DESCRIPTION:HVÍTUR Á LEIK (NOGI) 2026 is a No-Gi tournament for competitors aged 15 and older\, governed by IBJJF rules.\n\n**Event details:**\n\n- Weigh-in at 09:00\, competition starts 10:00\n- Weigh-ins conducted in competition attire\n- Weight classes may be combined if registration is low\n- White belt division is reserved for true beginners\; those with significant grappling experience or prior blue belt competition history are not eligible\n- Spectator entry: 500 kr\n- Fee to change weight class or move to open division if weight is missed: 2\,000 kr\n\n*For full details and registration\, visit the official event page.*\\n\\nMore info: https://smoothcomp.com/en/event/30456\\n\\nView on EuroBJJ: https://eurobjj.com/events/1563
URL:https://smoothcomp.com/en/event/30456
END:VEVENT
END:VCALENDAR
