BEGIN:VCALENDAR
VERSION:2.0
PRODID:-//EuroBJJ//Event Calendar//EN
CALSCALE:GREGORIAN
METHOD:PUBLISH
X-WR-CALNAME:EuroBJJ Events
BEGIN:VEVENT
UID:event-1555@eurobjj.com
DTSTAMP:20260423T103913Z
DTSTART;VALUE=DATE:20260523
DTEND;VALUE=DATE:20260524
SUMMARY:IMPACT SUBMISSION GRAPPLING TOURNAMENT
LOCATION:impact sports academy\, Breda\, Netherlands
DESCRIPTION:IMPACT SUBMISSION GRAPPLING TOURNAMENT is a No-Gi event running on a Double KO system\, guaranteeing every competitor a minimum of two matches.\n\n**Registration & pricing:**\n- Early bird: €27.50 (until 1 April 2026)\n- Regular: €35 (until 21 May 2026)\n- Online registration is mandatory\n\n**Schedule:**\n- Weigh-in: 10:30–11:00\n- Competition starts: 11:30\n- Prizes awarded around 17:00\n\n*For full details and registration\, visit the official event page.*\\n\\nMore info: https://smoothcomp.com/en/event/30660\\n\\nView on EuroBJJ: https://eurobjj.com/events/1555
URL:https://smoothcomp.com/en/event/30660
END:VEVENT
END:VCALENDAR
