BEGIN:VCALENDAR
VERSION:2.0
PRODID:-//EuroBJJ//Event Calendar//EN
CALSCALE:GREGORIAN
METHOD:PUBLISH
X-WR-CALNAME:EuroBJJ Events
BEGIN:VEVENT
UID:event-1560@eurobjj.com
DTSTAMP:20260423T131243Z
DTSTART;VALUE=DATE:20260509
DTEND;VALUE=DATE:20260510
SUMMARY:INTEGRA FIGHT GAMES GRAPPLING 2026
LOCATION:PWG Halle\, 54516 Wittlich\, Germany
DESCRIPTION:INTEGRA FIGHT GAMES GRAPPLING 2026 uses the UWW Grappling Template.\n\nPlease note: Event entries may not reflect the most current rules and regulations.\n\n*For full details and registration\, visit the official event page.*\\n\\nMore info: https://smoothcomp.com/en/event/30261\\n\\nView on EuroBJJ: https://eurobjj.com/events/1560
URL:https://smoothcomp.com/en/event/30261
END:VEVENT
END:VCALENDAR
