BEGIN:VCALENDAR
VERSION:2.0
PRODID:-//EuroBJJ//Event Calendar//EN
CALSCALE:GREGORIAN
METHOD:PUBLISH
X-WR-CALNAME:EuroBJJ Events
BEGIN:VEVENT
UID:event-1540@eurobjj.com
DTSTAMP:20260423T112146Z
DTSTART;VALUE=DATE:20260328
DTEND;VALUE=DATE:20260329
SUMMARY:INTERCLUB ARANHA
LOCATION:aranha forum\, Barcelona\, Spain
DESCRIPTION:INTERCLUB ARANHA is an exclusive Gi and No-Gi competition for Aranha family members\, featuring children and adults across all belt levels under IBJJF rules.\n\n**Registration & format:**\n- €25 per category (Gi or No-Gi)\n- €40 for both categories combined (discounted)\n- Limited capacity with early closure possible\n- Male and female divisions\n- Single weigh-in attempt with zero weight margin\n- Category unification attempted for single-athlete divisions\n\nMedals awarded to top three finishers. Check the Smoothcomp profile for the dynamic schedule.\n\n*For full details and registration\, visit the official event page.*\\n\\nMore info: https://smoothcomp.com/en/event/30940\\n\\nView on EuroBJJ: https://eurobjj.com/events/1540
URL:https://smoothcomp.com/en/event/30940
END:VEVENT
END:VCALENDAR
