BEGIN:VCALENDAR
VERSION:2.0
PRODID:-//EuroBJJ//Event Calendar//EN
CALSCALE:GREGORIAN
METHOD:PUBLISH
X-WR-CALNAME:EuroBJJ Events
BEGIN:VEVENT
UID:event-1557@eurobjj.com
DTSTAMP:20260423T131454Z
DTSTART;VALUE=DATE:20261024
DTEND;VALUE=DATE:20261025
SUMMARY:INTERNATIONAL VELUWE OPEN JIU JITSU CHAMPIONSHIP 2026 GI & NO GI THE AUTUMN EDTION
LOCATION:Netherlands
DESCRIPTION:The International Veluwe Open Jiu Jitsu Championship 2026 (Autumn Edition) is the 9th running of this Gi and No-Gi tournament\, held under IBJJF standards. Gi competition takes place Saturday\, No-Gi on Sunday.\n\n**Divisions:** Kids (ages 4–15)\, Adults (16+)\, Masters 1 (30–40)\, and Masters 2 (40+) across all belt levels from white to black. White belts are split into beginners (0–6 months) and advanced (6+ months).\n\n**Format varies by division size:** Kids compete in round-robin with a maximum of 4 fights\; adults and masters use round-robin (up to 5 competitors)\, round-robin with elimination (up to 10)\, or Double K.O. bracket (10+). Open Class runs single knockout. All competitors are guaranteed at least 2 fights.\n\n**Registration fees:**\n- Adults/Masters: €45 early (until Aug 31)\, €60 standard\, €70 late\n- Kids: €27.50 early\, €30 standard\, €40 late\n- Black belts compete free\n- €20 discount for adults/masters entering both divisions\; €15 for kids\n\nCapacity: 1\,000 adults/masters\, 400 kids. Doors and weigh-ins open at 8:00\, first matches at 9:00. Each competitor may have one coach in the competition area (wristband required).\n\n*For full details and registration\, visit the official event page.*\\n\\nMore info: https://smoothcomp.com/en/event/30930\\n\\nView on EuroBJJ: https://eurobjj.com/events/1557
URL:https://smoothcomp.com/en/event/30930
END:VEVENT
END:VCALENDAR
