BEGIN:VCALENDAR
VERSION:2.0
PRODID:-//EuroBJJ//Event Calendar//EN
CALSCALE:GREGORIAN
METHOD:PUBLISH
X-WR-CALNAME:EuroBJJ Events
BEGIN:VEVENT
UID:event-1784@eurobjj.com
DTSTAMP:20260424T070944Z
DTSTART;VALUE=DATE:20260530
DTEND;VALUE=DATE:20260531
SUMMARY:ÍSLANDSMEISTARAMÓT NOGI 2026
LOCATION:Ármann\, Reykjavík\, Iceland
DESCRIPTION:ÍSLANDSMEISTARAMÓT NOGI 2026 is Iceland's national No-Gi championship\, featuring competition across eight age groups (4–17 years and 18+) and all belt levels under IBJJF rules.\n\n**Competition structure:**\n- Children and youth compete in round robin format with minimum 2 matches guaranteed per competitor\n- Adults use single elimination with bronze medal matches\n- Four mats running simultaneously\n- Divisions by weight and age (children/youth) or weight and skill level (adults)\n- Open divisions available for all belt levels and weights\n- Submissions allowed from age 10 onwards\n- Adult matches run 6 minutes\n\n**Registration & logistics:**\n- Children/youth: 3\,500 kr | Adults: 7\,500 kr\n- Deadline: May 26 (bank transfer to BJÍ 0301-26-005642)\n- Doors 8:00\, weigh-in 8:15\, rules meeting 8:45\n- Children start 9:00\, adults approximately 11:00\n- Spectator entry: 1\,000 kr (cash on-site)\n\n*For full details and registration\, visit the official event page.*\\n\\nMore info: https://smoothcomp.com/en/event/31666\\n\\nView on EuroBJJ: https://eurobjj.com/events/1784
URL:https://smoothcomp.com/en/event/31666
END:VEVENT
END:VCALENDAR
