BEGIN:VCALENDAR
VERSION:2.0
PRODID:-//EuroBJJ//Event Calendar//EN
CALSCALE:GREGORIAN
METHOD:PUBLISH
X-WR-CALNAME:EuroBJJ Events
BEGIN:VEVENT
UID:event-1547@eurobjj.com
DTSTAMP:20260423T104050Z
DTSTART;VALUE=DATE:20260509
DTEND;VALUE=DATE:20260510
SUMMARY:KIMURA CUP ALICANTE 2026
LOCATION:Polideportivo Municipal Els Oms\, Mutxamel - Alicante\, Spain
DESCRIPTION:The Kimura Cup Alicante 2026 is a major 5-star ranking event under AJP rules\, serving as the fifth stage of the Spanish National Ranking Copa Kimura. It welcomes competitors from Pre-Benjamín through Masters across all belt levels in both Gi and No-Gi divisions.\n\n**Registration fees:**\n- Early bird: €50 Gi / €85 Gi+NoGi (under 15: €45 / €75)\n- Normal: €60 Gi / €100 Gi+NoGi (under 15: €55 / €90)\n- Late: €70 Gi / €115 Gi+NoGi (under 15: €65 / €100)\n\n**Schedule:**\nWeigh-ins on Friday\, May 8 (17:30–20:30) and Saturday\, May 9 (08:00–09:00). The event may expand to Sunday\, May 10 if 600 athletes register.\n\n**Prizes & ranking points:**\nOver €10\,000 in total prizes including medals for champions\, runners-up\, and both third-place finishers. Team trophy awarded to the top 3 teams. Ranking points: 1st +100\, 2nd +55\, 3rd +30\, plus +5 per victory and +2 per submission.\n\nAthletes must present 20 minutes before their scheduled match and check smoothcomp.com regularly for potential time changes. Credential download required for all participants.\n\n*For full details and registration\, visit the official event page.*\\n\\nMore info: https://kimuracup.smoothcomp.com/en/event/30505\\n\\nView on EuroBJJ: https://eurobjj.com/events/1547
URL:https://kimuracup.smoothcomp.com/en/event/30505
END:VEVENT
END:VCALENDAR
