BEGIN:VCALENDAR
VERSION:2.0
PRODID:-//EuroBJJ//Event Calendar//EN
CALSCALE:GREGORIAN
METHOD:PUBLISH
X-WR-CALNAME:EuroBJJ Events
BEGIN:VEVENT
UID:event-1766@eurobjj.com
DTSTAMP:20260422T064951Z
DTSTART;VALUE=DATE:20260627
DTEND;VALUE=DATE:20260628
SUMMARY:LUTA LIVRE - SUBMISSION GRAPPLING LEAGUE - SWITZERLAND
LOCATION:Mehrzweckhalle Bergli - Pfyn\, Pfyn\, Switzerland
DESCRIPTION:LUTA LIVRE is a submission-only grappling league in Switzerland for competitors aged 16 and up. The event uses a round-robin format where every athlete faces all others in their bracket.\n\nTwo experience levels compete: **Novice** (up to 12 months grappling experience) and **Beginner/Intermediate** (13 months to 3 years). Experience from MMA\, Sambo\, wrestling\, and other grappling sports counts toward your level.\n\nMatches are decided by fastest submission time or fastest escape time. Overtime features back control\, one-minute attack time\, and role reversal.\n\n**Registration:** Men 16+ pay 60 CHF\; Women 16+ pay 50 CHF. Weigh-in happens on event day with 300g tolerance.\n\nWeight classes span 60 kg to 90+ kg across men's and women's divisions.\n\n*For full details and registration\, visit the official event page.*\\n\\nMore info: https://smoothcomp.com/en/event/28900\\n\\nView on EuroBJJ: https://eurobjj.com/events/1766
URL:https://smoothcomp.com/en/event/28900
END:VEVENT
END:VCALENDAR
