BEGIN:VCALENDAR
VERSION:2.0
PRODID:-//EuroBJJ//Event Calendar//EN
CALSCALE:GREGORIAN
METHOD:PUBLISH
X-WR-CALNAME:EuroBJJ Events
BEGIN:VEVENT
UID:event-1790@eurobjj.com
DTSTAMP:20260425T161909Z
DTSTART;VALUE=DATE:20260424
DTEND;VALUE=DATE:20260427
SUMMARY:Master International Jiu-Jitsu Championship - Europe 2026
LOCATION:Centre Esportiu Municipal Olimpics Vall d'Hebron\, Barcelona\, Spain
DESCRIPTION:The Master International Jiu-Jitsu Championship - Europe 2026 operates under IBJJF rules and features both Belt & Age Divisions and an Open Class format.\n\n*For full details and registration\, visit the official event page.*\\n\\nMore info: https://ibjjf.com/events/master-international-jiu-jitsu-championship-europe-2026\\n\\nView on EuroBJJ: https://eurobjj.com/events/1790
URL:https://ibjjf.com/events/master-international-jiu-jitsu-championship-europe-2026
END:VEVENT
END:VCALENDAR
