BEGIN:VCALENDAR
VERSION:2.0
PRODID:-//EuroBJJ//Event Calendar//EN
CALSCALE:GREGORIAN
METHOD:PUBLISH
X-WR-CALNAME:EuroBJJ Events
BEGIN:VEVENT
UID:event-1789@eurobjj.com
DTSTAMP:20260425T161909Z
DTSTART;VALUE=DATE:20260620
DTEND;VALUE=DATE:20260622
SUMMARY:Munich International Open IBJJF Jiu-Jitsu No-Gi Championship 2026
LOCATION:TSV Munich-Milbertshofen e.V.\, Munich\, Germany
DESCRIPTION:The Munich International Open IBJJF Jiu-Jitsu No-Gi Championship 2026 runs under IBJJF rules with both Belt & Age Divisions and an Open Class format.\n\n*For full details and registration\, visit the official event page.*\\n\\nMore info: https://ibjjf.com/events/munich-international-open-ibjjf-jiu-jitsu-no-gi-championship-2026\\n\\nView on EuroBJJ: https://eurobjj.com/events/1789
URL:https://ibjjf.com/events/munich-international-open-ibjjf-jiu-jitsu-no-gi-championship-2026
END:VEVENT
END:VCALENDAR
