BEGIN:VCALENDAR
VERSION:2.0
PRODID:-//EuroBJJ//Event Calendar//EN
CALSCALE:GREGORIAN
METHOD:PUBLISH
X-WR-CALNAME:EuroBJJ Events
BEGIN:VEVENT
UID:event-1545@eurobjj.com
DTSTAMP:20260423T112854Z
DTSTART;VALUE=DATE:20260606
DTEND;VALUE=DATE:20260607
SUMMARY:NOIA OPEN | D-BJJ
LOCATION:Pavillón Alonso Rodriguez\, Noia\, Spain
DESCRIPTION:NOIA OPEN | D-BJJ is an upcoming grappling competition.\n\n*For full details and registration\, visit the official event page.*\\n\\nMore info: https://dbjj.smoothcomp.com/en/event/30676\\n\\nView on EuroBJJ: https://eurobjj.com/events/1545
URL:https://dbjj.smoothcomp.com/en/event/30676
END:VEVENT
END:VCALENDAR
