BEGIN:VCALENDAR
VERSION:2.0
PRODID:-//EuroBJJ//Event Calendar//EN
CALSCALE:GREGORIAN
METHOD:PUBLISH
X-WR-CALNAME:EuroBJJ Events
BEGIN:VEVENT
UID:event-1666@eurobjj.com
DTSTAMP:20260422T132713Z
DTSTART;VALUE=DATE:20260417
DTEND;VALUE=DATE:20260418
SUMMARY:OLYMPIX GERMAN GRAPPLING CHAMPIONSHIP
LOCATION:Koelnmesse\, 50679 Köln\, Germany
DESCRIPTION:The OLYMPIX German Grappling Championship features Beginner and Intermediate divisions under a custom ruleset designed for dynamic competition.\n\n**Match format:** 5-minute rounds with golden point (sudden victory) applied even during group phases. Victory comes by submission or a 10-point margin.\n\n**Scoring system:**\n- Takedown: 1 pt\n- Takedown with control\, Sidemount\, North-South: 2 pts each\n- Full mount: 3 pts\n- Back mount: 4 pts\n\nPositions must be held for 3 seconds to count\, and points are awarded only from the best position achieved—no points for transitions.\n\n**Restricted techniques** for both divisions include finger locks\, heel hooks\, toe holds\, can openers\, wrist locks\, finger hooking\, twisters\, neck cranks\, and slams above hip height.\n\n*For full details and registration\, visit the official event page.*\\n\\nMore info: https://smoothcomp.com/en/event/31367\\n\\nView on EuroBJJ: https://eurobjj.com/events/1666
URL:https://smoothcomp.com/en/event/31367
END:VEVENT
END:VCALENDAR
