BEGIN:VCALENDAR
VERSION:2.0
PRODID:-//EuroBJJ//Event Calendar//EN
CALSCALE:GREGORIAN
METHOD:PUBLISH
X-WR-CALNAME:EuroBJJ Events
BEGIN:VEVENT
UID:event-1769@eurobjj.com
DTSTAMP:20260422T065215Z
DTSTART;VALUE=DATE:20260606
DTEND;VALUE=DATE:20260607
SUMMARY:OPEN ASTURIAS | OSO DURO
LOCATION:Polideportivo Municipal de Castrillón\, Asturias\, Spain
DESCRIPTION:**OPEN ASTURIAS | OSO DURO** is a Gi and No-Gi tournament following IBJJF rules\, featuring Kids\, Juvenil\, Adulto\, and Máster divisions across all belt levels from white to black.\n\n**Registration fees:**\n- Kids: €40–€50 (anticipada to tardía)\n- Juvenil/Adulto/Máster: €50–€70\, plus €10 for absolute division\n- Discount of €20 available when entering both Gi and No-Gi\n\n**Schedule:**\n- Early weigh-in: June 8\, 17:00–19:00\n- Main weigh-in: June 6 at 8:20\n- Competition starts 9:00\n\n**Ranking system:** Points awarded by placement (1st: 9–12 points\, 2nd: 3 points\, 3rd: 1 point) with separate rankings for Kids/Juvenil and Adulto/Máster. Monetary prizes awarded across divisions. The Athlete of the Year receives paid registration for the 2026 European championship plus one year free entry to all Oso Duro events. Teams compete for a €500 prize pool.\n\nSpectator capacity is limited. Cancellations before the deadline receive a coupon code for future events.\n\n*For full details and registration\, visit the official event page.*\\n\\nMore info: https://dbjj.smoothcomp.com/en/event/31879\\n\\nView on EuroBJJ: https://eurobjj.com/events/1769
URL:https://dbjj.smoothcomp.com/en/event/31879
END:VEVENT
END:VCALENDAR
