BEGIN:VCALENDAR
VERSION:2.0
PRODID:-//EuroBJJ//Event Calendar//EN
CALSCALE:GREGORIAN
METHOD:PUBLISH
X-WR-CALNAME:EuroBJJ Events
BEGIN:VEVENT
UID:event-1565@eurobjj.com
DTSTAMP:20260423T112542Z
DTSTART;VALUE=DATE:20260314
DTEND;VALUE=DATE:20260315
SUMMARY:OPEN BRUSSELS 2 FBJJB RANKING **** ADULT GI & NOGI 14.03.2026
LOCATION:Hall des Sports bâtiment "O"\, ULB Erasme\, Anderlecht\, Belgium
DESCRIPTION:Open Brussels 2 is an FBJJB-ranked adult Gi and No-Gi tournament on March 14\, 2026\, featuring white through black belts competing under IBJJF rules.\n\n**Registration:**\n- Normal (by Jan 26): €40 single format\, €60 both formats\n- Late (by Mar 11): €50 single format\, €85 both formats\n\n**Schedule:**\n- Weigh-ins: Friday 20:00–21:30\, Saturday 09:30–11:45\n- Competition starts around 12:15\n\n**Key features:**\n- Solo competitors automatically move to the next weight category unless challenged\n- Absolute divisions: Male (White\, Blue\, Purple\, Elite) and Female (Elite only)\n- Absolute entry restricted to top 3 from each category\n- Weight-in required with Gi for the Gi division\n- Zero tolerance on the scale\n- Team prizes: €300 for best Gi team\, €300 for best No-Gi team\n- Ranking points available toward World Championship qualification\; flight ticket details at www.fbjjb.be\n\n*For full details and registration\, visit the official event page.*\\n\\nMore info: https://fbjjb.smoothcomp.com/en/event/27600\\n\\nView on EuroBJJ: https://eurobjj.com/events/1565
URL:https://fbjjb.smoothcomp.com/en/event/27600
END:VEVENT
END:VCALENDAR
