BEGIN:VCALENDAR
VERSION:2.0
PRODID:-//EuroBJJ//Event Calendar//EN
CALSCALE:GREGORIAN
METHOD:PUBLISH
X-WR-CALNAME:EuroBJJ Events
BEGIN:VEVENT
UID:event-1763@eurobjj.com
DTSTAMP:20260421T062205Z
DTSTART;VALUE=DATE:20260531
DTEND;VALUE=DATE:20260601
SUMMARY:OPEN DE GRAPPLING MÂCON NO GI
LOCATION:Complexe Fernand Velon\, Mâcon\, France
DESCRIPTION:Open de Grappling Mâcon No Gi uses the UWW Grappling Template for competition.\n\nPlease note: Smoothcomp does not guarantee that event entries are current with the latest rules and regulations.\n\n*For full details and registration\, visit the official event page.*\\n\\nMore info: https://smoothcomp.com/en/event/31330\\n\\nView on EuroBJJ: https://eurobjj.com/events/1763
URL:https://smoothcomp.com/en/event/31330
END:VEVENT
END:VCALENDAR
