BEGIN:VCALENDAR
VERSION:2.0
PRODID:-//EuroBJJ//Event Calendar//EN
CALSCALE:GREGORIAN
METHOD:PUBLISH
X-WR-CALNAME:EuroBJJ Events
BEGIN:VEVENT
UID:event-1764@eurobjj.com
DTSTAMP:20260421T061840Z
DTSTART;VALUE=DATE:20260620
DTEND;VALUE=DATE:20260621
SUMMARY:OPEN DE GRAPPLING PÉRIGORD 2
LOCATION:France
DESCRIPTION:The Open de Grappling Périgord 2 is a Gi and No-Gi grappling tournament following UWW rules. Competition spans U17\, Seniors\, and Masters 1–3 divisions across all belt levels\, with 5-minute match times.\n\n**Registration fees (GI or No-Gi):**\n- Pre-registration (until Jan 17): €30 FFLDA licensed / €40 non-licensed / €20 Absolute\n- Standard (Jan 18–Feb 21): €35 FFLDA licensed / €45 non-licensed / €20 Absolute\n- Late (Jun 1–16): €40 FFLDA licensed / €50 non-licensed / €20 Absolute\n\n**Schedule:**\n- No-Gi weigh-in: 8:30–9:30 AM\, matches from 9:30 AM\n- GI weigh-in: 1:00–2:00 PM\, matches from 2:00 PM\n\nCompetitors can enter both divisions with a single weigh-in. Prize money awarded to winners in categories with 8+ competitors (White €50\, Blue €75\, Purple €100\, Brown/Black €150). Absolute divisions require 4+ competitors. Only white\, blue\, and black GI permitted. Spectator entry is free.\n\n**Note:** Limited capacity—registrations may close early. No refunds except if a competitor is alone in their category.\n\n*For full details and registration\, visit the official event page.*\\n\\nMore info: https://smoothcomp.com/en/event/31734\\n\\nView on EuroBJJ: https://eurobjj.com/events/1764
URL:https://smoothcomp.com/en/event/31734
END:VEVENT
END:VCALENDAR
