BEGIN:VCALENDAR
VERSION:2.0
PRODID:-//EuroBJJ//Event Calendar//EN
CALSCALE:GREGORIAN
METHOD:PUBLISH
X-WR-CALNAME:EuroBJJ Events
BEGIN:VEVENT
UID:event-1785@eurobjj.com
DTSTAMP:20260425T055638Z
DTSTART;VALUE=DATE:20260509
DTEND;VALUE=DATE:20260510
SUMMARY:OPEN WHITE/BLUE GI+76KG & NO GI -76KG - GORILLA BJJ
LOCATION:Gorilla BJJ ARENA\, Fleurus\, Belgium
DESCRIPTION:Gorilla BJJ presents an Open White/Blue competition in King of the Mat (CKF) format—a continuous rotation tournament where the winner stays on the mat to face challengers.\n\n**Format details:**\n- Two categories: Gi +76kg and No-Gi -76kg\n- 8 competitors per category\, 50 minutes of action\n- Matches are 2 minutes 30 seconds each\n- Competitors can voluntarily exit after 2 consecutive wins to rejoin the queue\n- IBJJF rules apply\n\n**Ranking system:**\nVictory earns 3 points\, draws 1 point each\, losses 0 points. Final standings determined by total accumulated points.\n\n**Prize:**\nThe champion wins €500 per month and defends the title against challengers\, with earnings increasing based on successful defenses.\n\nOpen to all levels\, including beginners.\n\n*For full details and registration\, visit the official event page.*\\n\\nMore info: https://smoothcomp.com/en/event/31808\\n\\nView on EuroBJJ: https://eurobjj.com/events/1785
URL:https://smoothcomp.com/en/event/31808
END:VEVENT
END:VCALENDAR
