BEGIN:VCALENDAR
VERSION:2.0
PRODID:-//EuroBJJ//Event Calendar//EN
CALSCALE:GREGORIAN
METHOD:PUBLISH
X-WR-CALNAME:EuroBJJ Events
BEGIN:VEVENT
UID:event-1665@eurobjj.com
DTSTAMP:20260422T100253Z
DTSTART;VALUE=DATE:20260725
DTEND;VALUE=DATE:20260726
SUMMARY:PODIO OPEN JIU-JITSU CHAMPIONSHIP
LOCATION:Portugal
DESCRIPTION:The PODIO OPEN JIU-JITSU CHAMPIONSHIP takes place on July 25\, 2026\, featuring Gi and No-Gi competition under FPJJB/IBJJF rules. The event welcomes Kids (up to 15 years)\, Juveniles\, and Adults competing at white and blue belt levels.\n\n**Registration & Fees:**\n- Kids: €25 | Juveniles: €30 | Adults: €35\n- Deadline: July 19\, 2026 at 11:59 PM (payment required)\n- Edits allowed until July 21 at 11:59 PM\n- Brackets released July 23 at 11:59 PM\n\n**Competition Details:**\n- Start time: 10:05 AM\n- Athletes should arrive 60 minutes before their match\n- Medals for top 3 in individual categories\; all children not on the podium receive participation medals\n- Team trophies for 1st\, 2nd\, and 3rd place\n- Best submission award: €250\n- Absolute divisions for white and blue belt adults (€100 and €150 respectively) require a minimum of 6 registered competitors per category\n\n**Requirements:**\nPhoto ID is mandatory. Insurance is available\; athletes have 3 days to report accidents to the organization.\n\n*For full details and registration\, visit the official event page.*\\n\\nMore info: https://smoothcomp.com/en/event/31399\\n\\nView on EuroBJJ: https://eurobjj.com/events/1665
URL:https://smoothcomp.com/en/event/31399
END:VEVENT
END:VCALENDAR
